BEGIN:VCALENDAR
VERSION:2.0
PRODID:-//Stainton&#039;s - ECPv6.11.2//NONSGML v1.0//EN
CALSCALE:GREGORIAN
METHOD:PUBLISH
X-ORIGINAL-URL:https://staintons.com
X-WR-CALDESC:Events for Stainton&#039;s
REFRESH-INTERVAL;VALUE=DURATION:PT1H
X-Robots-Tag:noindex
X-PUBLISHED-TTL:PT1H
BEGIN:VTIMEZONE
TZID:UTC
BEGIN:STANDARD
TZOFFSETFROM:+0000
TZOFFSETTO:+0000
TZNAME:UTC
DTSTART:20250101T000000
END:STANDARD
END:VTIMEZONE
BEGIN:VEVENT
DTSTART;TZID=UTC:20250703T090000
DTEND;TZID=UTC:20250703T120000
DTSTAMP:20260422T135246
CREATED:20250701T202941Z
LAST-MODIFIED:20250701T202941Z
UID:4768-1751533200-1751544000@staintons.com
SUMMARY:Sand Sculpting Contest – July 3rd\, 2025 | 6th Street Beach\, Ocean City NJ
DESCRIPTION:Get creative in the sand at Ocean City’s Sand Sculpting Contest — open to kids\, teens\, adults\, and families! Whether you’re a casual builder or a sand art pro\, all are welcome. \nRegistration is free and begins at 9:00 AM. Judging wraps up by 11:00 AM\, so bring your best ideas and build fast! \n📍 Location: 6th Street Beach\, Ocean City\, NJ🕘 Time: Registration at 9:00 AM | Judging by 11:00 AM \nBuckets\, shovels\, and big imaginations encouraged!
URL:https://staintons.com/event/sand-sculpting-contest-july-3rd-2025-6th-street-beach-ocean-city-nj/
LOCATION:6th Street Beach\, 600 boardwalk\, Ocean City\, NJ\, 08226\, United States
END:VEVENT
BEGIN:VEVENT
DTSTART;TZID=UTC:20250703T200000
DTEND;TZID=UTC:20250703T213000
DTSTAMP:20260422T135246
CREATED:20250624T202218Z
LAST-MODIFIED:20250624T202218Z
UID:4626-1751572800-1751578200@staintons.com
SUMMARY:Ocean City Pops – Free Outdoor Concert July 3 & 4
DESCRIPTION:Celebrate Independence Day with the Ocean City Pops Concert\, a free outdoor event happening on Wednesday\, July 3 and Thursday\, July 4 at 8:00 PM at Carey Stadium\, located at 6th Street and the Boardwalk in Ocean City\, NJ. \nThis family-friendly concert is one of Ocean City’s most loved holiday traditions. The Ocean City Pops will perform a mix of patriotic tunes\, crowd favorites\, and classic summer music that everyone can enjoy. It’s the perfect way to kick off your Fourth of July celebrations with great music\, a welcoming atmosphere\, and plenty of community spirit. \nGuests are welcome to bring blankets or beach chairs to sit on the stadium field\, or take a seat in the bleachers\, which are available on a first-come\, first-served basis. Whether you’re attending with family\, friends\, or out-of-town visitors\, this concert offers a relaxed way to enjoy a summer night in Ocean City. \n \n \n \n\nThe Ocean City Pops Concert is free and open to the public. Make it part of your holiday week in Ocean City and enjoy one of the most special community events of the summer.
URL:https://staintons.com/event/ocean-city-pops-free-outdoor-concert-july-3-4/
LOCATION:Carey Stadium\, 500 Boardwalk\, Ocean City\, NJ\, 08226\, United States
END:VEVENT
END:VCALENDAR