BEGIN:VCALENDAR
VERSION:2.0
PRODID:-//Stainton&#039;s - ECPv6.11.2//NONSGML v1.0//EN
CALSCALE:GREGORIAN
METHOD:PUBLISH
X-WR-CALNAME:Stainton&#039;s
X-ORIGINAL-URL:https://staintons.com
X-WR-CALDESC:Events for Stainton&#039;s
REFRESH-INTERVAL;VALUE=DURATION:PT1H
X-Robots-Tag:noindex
X-PUBLISHED-TTL:PT1H
BEGIN:VTIMEZONE
TZID:UTC
BEGIN:STANDARD
TZOFFSETFROM:+0000
TZOFFSETTO:+0000
TZNAME:UTC
DTSTART:20250101T000000
END:STANDARD
END:VTIMEZONE
BEGIN:VEVENT
DTSTART;TZID=UTC:20250708T100000
DTEND;TZID=UTC:20250708T120000
DTSTAMP:20260422T155745
CREATED:20250625T192616Z
LAST-MODIFIED:20250625T192616Z
UID:4660-1751968800-1751976000@staintons.com
SUMMARY:Ocean City Bicycle Auction – July 8\, 2025
DESCRIPTION:Looking for a deal on a beach cruiser or commuter bike? Don’t miss the Ocean City Bicycle Auction on Tuesday\, July 8\, 2025\, at 10:00 AM at the Shelter Road Recycling Center (off Tennessee Avenue). \nThe auction features bicycles that have been abandoned or unclaimed in town and collected by the Ocean City Police Department. Bikes are sold as-is to the highest bidder — a popular event for locals\, summer workers\, and bargain hunters alike. \n 
URL:https://staintons.com/event/ocean-city-bicycle-auction-july-8-2025/
LOCATION:Shelter Road Compound\, Shelter Road\, Ocean City\, NJ\, 08226\, United States
END:VEVENT
BEGIN:VEVENT
DTSTART;TZID=UTC:20250708T100000
DTEND;TZID=UTC:20250708T130000
DTSTAMP:20260422T155745
CREATED:20250701T185551Z
LAST-MODIFIED:20250701T190517Z
UID:4712-1751968800-1751979600@staintons.com
SUMMARY:Character Tuesdays: Frozen Day in Downtown OCNJ
DESCRIPTION:Frozen Day – July 8\, 2025 | Character Tuesdays in Downtown OCNJBring the kids and cool off with your favorite Frozen friends! On Tuesday\, July 8\, join us in Downtown Ocean City for Frozen Day\, part of the Character Tuesdays summer series. \nMeet Elsa\, Anna\, Kristoff\, and Olaf as they roam Downtown creating magical moments for families. there will also be 4 face painters and 2 balloon artists creating fun\, festive experiences for all ages. \n📍 Location: Downtown Ocean City\, NJ🕙 Time: 10:00 AM – 1:00 PM🎉 Cost: Free and open to the public \nMake it a morning to remember—don’t forget your camera and Frozen gear!
URL:https://staintons.com/event/character-tuesdays-frozen-day-in-downtown-ocnj/
LOCATION:Stainton’s\, 810 Asbury Ave\, Ocean City\, NJ\, 08226\, United States
END:VEVENT
END:VCALENDAR