BEGIN:VCALENDAR
VERSION:2.0
PRODID:-//Stainton&#039;s - ECPv6.11.2//NONSGML v1.0//EN
CALSCALE:GREGORIAN
METHOD:PUBLISH
X-WR-CALNAME:Stainton&#039;s
X-ORIGINAL-URL:https://staintons.com
X-WR-CALDESC:Events for Stainton&#039;s
REFRESH-INTERVAL;VALUE=DURATION:PT1H
X-Robots-Tag:noindex
X-PUBLISHED-TTL:PT1H
BEGIN:VTIMEZONE
TZID:UTC
BEGIN:STANDARD
TZOFFSETFROM:+0000
TZOFFSETTO:+0000
TZNAME:UTC
DTSTART:20250101T000000
END:STANDARD
END:VTIMEZONE
BEGIN:VEVENT
DTSTART;TZID=UTC:20250716T080000
DTEND;TZID=UTC:20250716T120000
DTSTAMP:20260422T155843
CREATED:20250624T194615Z
LAST-MODIFIED:20250624T194615Z
UID:4607-1752652800-1752667200@staintons.com
SUMMARY:Ocean City Farmers Market – Every Wednesday
DESCRIPTION:Every Wednesday from June 4 through September 3\, the Ocean City Farmers Market takes place from 8:00 AM to 12:00 PM at the Tabernacle Grounds (550 Wesley Ave). A beloved summer tradition\, the market features an incredible variety of fresh produce\, baked goods\, flowers\, specialty foods\, handmade crafts\, and more from local and regional vendors. Whether you’re a year-round resident or just visiting for the week\, it’s a great way to experience the heart of Ocean City’s community. \nSeveral Stainton’s vendors also participate in the market\, offering a taste of what you can find inside our stores. In addition\, we host pop-up vendors outside of Stainton’s every Wednesday\, giving visitors even more to explore downtown. Inside Stainton’s\, you’ll find over 80 independently owned shops under one roof — showcasing the best of Ocean City’s local shopping scene. \n\n \n\nProudly supporting Ocean City’s community and small business scene all summer long.
URL:https://staintons.com/event/ocean-city-farmers-market-every-wednesday-7/
LOCATION:Tabernacle\, 550 Wesley avenue\, Ocean City\, 08226\, United States
END:VEVENT
BEGIN:VEVENT
DTSTART;TZID=UTC:20250716T100000
DTEND;TZID=UTC:20250716T140000
DTSTAMP:20260422T155843
CREATED:20250708T173107Z
LAST-MODIFIED:20250710T180556Z
UID:4959-1752660000-1752674400@staintons.com
SUMMARY:Three Little Birds Grand Opening Party
DESCRIPTION:📚✨ Celebrate the Grand Opening of Three Little Birds! ✨📚 \nJoin us on July 16 at 10:00 AM for the exciting launch of Stainton’s independent book\, card\, and gift shop — Three Little Birds! \nEnjoy a fun-filled day with local vendors\, live music\, delicious treats\, and exclusive one-day-only specials. Don’t miss the ribbon cutting ceremony kicking off this special celebration! \nWe can’t wait to welcome you and celebrate together! \n \n 
URL:https://staintons.com/event/three-little-birds-grand-opening/
LOCATION:Three Little Birds\, 756 Asbury Ave\, Ocean City\, NJ\, 08226\, United States
END:VEVENT
BEGIN:VEVENT
DTSTART;TZID=UTC:20250716T103000
DTEND;TZID=UTC:20250716T120000
DTSTAMP:20260422T155843
CREATED:20250625T203446Z
LAST-MODIFIED:20250625T203827Z
UID:4674-1752661800-1752667200@staintons.com
SUMMARY:Wacky Wednesday: French Fry Sculpting – July 16\, 2025
DESCRIPTION:Things get salty and silly at Wacky Wednesday: French Fry Sculpting on Wednesday\, July 16 at 10:30 AM at the Ocean City Music Pier! Kids of all ages are invited to use their imaginations to create fun and wacky designs using only French fries and their creativity. \nWhether it’s a sandy castle made of fries or a seagull in snack form\, this free\, hands-on event is a fan favorite — perfect for families looking for a quick activity before hitting the beach or boardwalk. Supplies are provided\, and participation is first come\, first served. \nThe fun begins at 10:30 AM\, and events continue while supplies last. For a full list of upcoming Wacky Wednesday themes\, visit ocnj.us. \nSponsored by the Promenade
URL:https://staintons.com/event/wacky-wednesday-french-fry-sculpting-july-16-2025/
LOCATION:Ocean City Music Pier\, 825 Boardwalk\, Ocean City\, NJ\, 08226\, United States
END:VEVENT
END:VCALENDAR