BEGIN:VCALENDAR
VERSION:2.0
PRODID:-//Stainton&#039;s - ECPv6.11.2//NONSGML v1.0//EN
CALSCALE:GREGORIAN
METHOD:PUBLISH
X-WR-CALNAME:Stainton&#039;s
X-ORIGINAL-URL:https://staintons.com
X-WR-CALDESC:Events for Stainton&#039;s
REFRESH-INTERVAL;VALUE=DURATION:PT1H
X-Robots-Tag:noindex
X-PUBLISHED-TTL:PT1H
BEGIN:VTIMEZONE
TZID:UTC
BEGIN:STANDARD
TZOFFSETFROM:+0000
TZOFFSETTO:+0000
TZNAME:UTC
DTSTART:20250101T000000
END:STANDARD
END:VTIMEZONE
BEGIN:VEVENT
DTSTART;TZID=UTC:20250722T100000
DTEND;TZID=UTC:20250722T130000
DTSTAMP:20260422T153956
CREATED:20250701T190331Z
LAST-MODIFIED:20250701T190331Z
UID:4719-1753178400-1753189200@staintons.com
SUMMARY:Princess Day in Downtown OCNJ – July 22nd | Character Tuesdays
DESCRIPTION:Princess Day – July 22\, 2025 | Character Tuesdays in Downtown OCNJCalling all royalty! Join us for Princess Day on Tuesday\, July 22\, 2025\, in Downtown Ocean City as part of our magical Character Tuesdays event series. \nCome meet your favorite fairytale characters — Cinderella\, Belle\, Rapunzel\, and Sleeping Beauty (Aurora) — as they walk Asbury Avenue\, take photos\, and greet young fans. \n🎨 4 face painters and 🎈 2 balloon artists will be joining the fun\, creating a morning full of smiles and storybook magic! \n📍 Location: Downtown Ocean City\, NJ🕙 Time: 10:00 AM – 1:00 PM🎉 Cost: Free and open to the public \nPut on your princess attire and make magical memories in the heart of OCNJ!
URL:https://staintons.com/event/princess-day-in-downtown-ocnj-july-22nd-character-tuesdays/
LOCATION:Stainton’s\, 810 Asbury Ave\, Ocean City\, NJ\, 08226\, United States
END:VEVENT
BEGIN:VEVENT
DTSTART;TZID=UTC:20250722T103000
DTEND;TZID=UTC:20250722T120000
DTSTAMP:20260422T153956
CREATED:20250710T145457Z
LAST-MODIFIED:20250710T145457Z
UID:5127-1753180200-1753185600@staintons.com
SUMMARY:Pete the Cat Presented by OCTC
DESCRIPTION:Join Pete the Cat on a groovy adventure full of music\, creativity\, and unexpected friendship! When Pete meets the Biddle family\, he brings his cool-cat attitude to everyone—except for young Jimmy Biddle\, a super-organized second grader who’s struggling in art class. But with the school year coming to a close\, Pete and Jimmy team up to tackle the challenge together. Their journey is full of laughs\, learning\, and a lesson or two about finding inspiration in the most unexpected places. \nCatch the fun at 10:30am at the Ocean City Music Pier.Tickets available at www.oceancitytheatrecompany.com
URL:https://staintons.com/event/pete-the-cat-presented-by-octc/
LOCATION:Ocean City Music Pier\, 825 Boardwalk\, Ocean City\, NJ\, 08226\, United States
END:VEVENT
BEGIN:VEVENT
DTSTART;TZID=UTC:20250722T190000
DTEND;TZID=UTC:20250722T210000
DTSTAMP:20260422T153956
CREATED:20250708T180522Z
LAST-MODIFIED:20250722T201409Z
UID:4977-1753210800-1753218000@staintons.com
SUMMARY:Mummers Night – Every Tuesday and Thursday | 7 p.m. to 9 p.m. | Boardwalk 6th to 14th Street\, Ocean City\, NJ
DESCRIPTION:Enjoy vibrant entertainment every Tuesday and Thursday night on the Ocean City Boardwalk featuring the Philadelphia Mummers Bands strutting from 7:00 PM to 9:00 PM between 6th and 14th Street. \n🕖 Time: 7:00 PM – 9:00 PM📍 Location: Boardwalk between 6th Street and 14th Street\, Ocean City\, NJ🎉 Cost: Free and open to the public
URL:https://staintons.com/event/mummers-night-every-tuesday-and-thursday-7-p-m-to-9-p-m-boardwalk-6th-to-14th-street-ocean-city-nj-4/
LOCATION:Ocean City Boardwalk\, 825 Boardwalk\, Ocean City\, NJ\, 08226\, United States
END:VEVENT
END:VCALENDAR