BEGIN:VCALENDAR
VERSION:2.0
PRODID:-//Stainton&#039;s - ECPv6.11.2//NONSGML v1.0//EN
CALSCALE:GREGORIAN
METHOD:PUBLISH
X-WR-CALNAME:Stainton&#039;s
X-ORIGINAL-URL:https://staintons.com
X-WR-CALDESC:Events for Stainton&#039;s
REFRESH-INTERVAL;VALUE=DURATION:PT1H
X-Robots-Tag:noindex
X-PUBLISHED-TTL:PT1H
BEGIN:VTIMEZONE
TZID:UTC
BEGIN:STANDARD
TZOFFSETFROM:+0000
TZOFFSETTO:+0000
TZNAME:UTC
DTSTART:20250101T000000
END:STANDARD
END:VTIMEZONE
BEGIN:VEVENT
DTSTART;TZID=UTC:20250723T080000
DTEND;TZID=UTC:20250723T120000
DTSTAMP:20260422T153923
CREATED:20250624T194807Z
LAST-MODIFIED:20250624T194807Z
UID:4609-1753257600-1753272000@staintons.com
SUMMARY:Ocean City Farmers Market – Every Wednesday
DESCRIPTION:Every Wednesday from June 4 through September 3\, the Ocean City Farmers Market takes place from 8:00 AM to 12:00 PM at the Tabernacle Grounds (550 Wesley Ave). A beloved summer tradition\, the market features an incredible variety of fresh produce\, baked goods\, flowers\, specialty foods\, handmade crafts\, and more from local and regional vendors. Whether you’re a year-round resident or just visiting for the week\, it’s a great way to experience the heart of Ocean City’s community. \nSeveral Stainton’s vendors also participate in the market\, offering a taste of what you can find inside our stores. In addition\, we host pop-up vendors outside of Stainton’s every Wednesday\, giving visitors even more to explore downtown. Inside Stainton’s\, you’ll find over 80 independently owned shops under one roof — showcasing the best of Ocean City’s local shopping scene. \n\n \n\nProudly supporting Ocean City’s community and small business scene all summer long.
URL:https://staintons.com/event/ocean-city-farmers-market-every-wednesday-8/
LOCATION:Tabernacle\, 550 Wesley avenue\, Ocean City\, 08226\, United States
END:VEVENT
BEGIN:VEVENT
DTSTART;TZID=UTC:20250723T100000
DTEND;TZID=UTC:20250723T140000
DTSTAMP:20260422T153923
CREATED:20250708T173508Z
LAST-MODIFIED:20250710T180202Z
UID:4962-1753264800-1753279200@staintons.com
SUMMARY:Stainton's Kids Co. Grand Opening Party
DESCRIPTION:🎉 Celebrate the Grand Opening of Stainton’s Kids Co.! 🎀 \nJoin us for the ribbon cutting of Stainton’s Kids Co.\, our brand-new children’s store in Ocean City! 🎈 \nMeet some of our amazing local vendors\, enjoy live music\, explore the store\, and treat your family to free snacks and fun activities. \n📍 Location: 910 Asbury Avenue\, Ocean City\, NJ🗓️ Date & Time: July 23\, 10:00 AM \nBring the whole family and join the celebration! \n 
URL:https://staintons.com/event/stainton-kids-co-grand-opening/
LOCATION:Stainton’s Kids Co.\, 910 Asbury Ave\, Ocean City\, NJ\, 08226\, United States
END:VEVENT
BEGIN:VEVENT
DTSTART;TZID=UTC:20250723T103000
DTEND;TZID=UTC:20250723T113000
DTSTAMP:20260422T153923
CREATED:20250625T195348Z
LAST-MODIFIED:20250715T202306Z
UID:4666-1753266600-1753270200@staintons.com
SUMMARY:Wacky Wednesday: Christmas in July – July 23\, 2025
DESCRIPTION:Celebrate the season early with Wacky Wednesday: Christmas in July on Wednesday\, July 23 at 10:30 AM at the Ocean City Music Pier. This fun\, free event invites kids of all ages to enjoy holiday-themed games\, crafts\, and activities — with a summer twist! \nSpace is limited\, so arrive early to join the festive fun. For more weekly themes\, visit ocnj.us.
URL:https://staintons.com/event/wacky-wednesday-christmas-in-july-july-23-2025/
LOCATION:Ocean City Music Pier\, 825 Boardwalk\, Ocean City\, NJ\, 08226\, United States
END:VEVENT
END:VCALENDAR