BEGIN:VCALENDAR
VERSION:2.0
PRODID:-//Stainton&#039;s - ECPv6.11.2//NONSGML v1.0//EN
CALSCALE:GREGORIAN
METHOD:PUBLISH
X-ORIGINAL-URL:https://staintons.com
X-WR-CALDESC:Events for Stainton&#039;s
REFRESH-INTERVAL;VALUE=DURATION:PT1H
X-Robots-Tag:noindex
X-PUBLISHED-TTL:PT1H
BEGIN:VTIMEZONE
TZID:UTC
BEGIN:STANDARD
TZOFFSETFROM:+0000
TZOFFSETTO:+0000
TZNAME:UTC
DTSTART:20250101T000000
END:STANDARD
END:VTIMEZONE
BEGIN:VEVENT
DTSTART;TZID=UTC:20250728T080000
DTEND;TZID=UTC:20250728T090000
DTSTAMP:20260422T160011
CREATED:20250701T203936Z
LAST-MODIFIED:20250701T203936Z
UID:4778-1753689600-1753693200@staintons.com
SUMMARY:Beach Yoga – Every Monday in July 2025 | 6th Street Beach Ocean City\, NJ
DESCRIPTION:Beach Yoga – Every Monday in July 2025 | 6th Street Beach Volleyball Courts\, Ocean City NJStart your week with peace and movement at Beach Yoga\, hosted every Monday morning in July by the Ocean City Aquatic & Fitness Center. All levels welcome! \nBring a towel\, a friend\, and enjoy the ocean breeze during this free community wellness event. \n📍 Location: 6th Street Beach Volleyball Courts\, Ocean City\, NJ🕗 Time: 8:00 AM – 9:00 AM \nQuestions? Call (609) 398-6900 for more information.
URL:https://staintons.com/event/beach-yoga-every-monday-in-july-2025-6th-street-beach-ocean-city-nj-4/
LOCATION:6th Street Volleyball Courts\, 600 boardwalk\, Ocean City\, NJ\, 08226\, United States
END:VEVENT
BEGIN:VEVENT
DTSTART;TZID=UTC:20250728T190000
DTEND;TZID=UTC:20250728T210000
DTSTAMP:20260422T160011
CREATED:20250703T135857Z
LAST-MODIFIED:20250703T135857Z
UID:4846-1753729200-1753736400@staintons.com
SUMMARY:Family Nights — Every Monday on the Boardwalk in Ocean City\, NJ
DESCRIPTION:Enjoy family-friendly entertainment every Monday night on the Ocean City Boardwalk featuring jugglers\, live music\, characters\, and more from 7:00 PM to 9:00 PM between 6th and 14th Street. \n🕖 Time: 7:00 PM – 9:00 PM📍 Location: Boardwalk between 6th Street and 14th Street\, Ocean City\, NJ🎉 Cost: Free and open to the public \n \nBring your family and friends to experience the excitement and magic of Family Nights Entertainment in Downtown Ocean City!
URL:https://staintons.com/event/family-nights-every-monday-on-the-boardwalk-in-ocean-city-nj-3/
LOCATION:Ocean City Boardwalk\, 825 Boardwalk\, Ocean City\, NJ\, 08226\, United States
END:VEVENT
BEGIN:VEVENT
DTSTART;TZID=UTC:20250728T190000
DTEND;TZID=UTC:20250728T210000
DTSTAMP:20260422T160011
CREATED:20250708T134047Z
LAST-MODIFIED:20250708T134047Z
UID:4933-1753729200-1753736400@staintons.com
SUMMARY:Let's Sing Taylor - An Unofficial Live Band Tribute
DESCRIPTION:Come Shake it Off at the Ocean City Music Pier at 7:00 p.m.! Buy your concert tickets at etix.com. Produced by BRE Presents.
URL:https://staintons.com/event/lets-sing-taylor-an-unofficial-live-band-tribute/
LOCATION:Ocean City Music Pier\, 825 Boardwalk\, Ocean City\, NJ\, 08226\, United States
END:VEVENT
END:VCALENDAR