BEGIN:VCALENDAR
VERSION:2.0
PRODID:-//Stainton&#039;s - ECPv6.11.2//NONSGML v1.0//EN
CALSCALE:GREGORIAN
METHOD:PUBLISH
X-ORIGINAL-URL:https://staintons.com
X-WR-CALDESC:Events for Stainton&#039;s
REFRESH-INTERVAL;VALUE=DURATION:PT1H
X-Robots-Tag:noindex
X-PUBLISHED-TTL:PT1H
BEGIN:VTIMEZONE
TZID:UTC
BEGIN:STANDARD
TZOFFSETFROM:+0000
TZOFFSETTO:+0000
TZNAME:UTC
DTSTART:20250101T000000
END:STANDARD
END:VTIMEZONE
BEGIN:VEVENT
DTSTART;TZID=UTC:20250729T100000
DTEND;TZID=UTC:20250729T130000
DTSTAMP:20260422T155915
CREATED:20250701T190837Z
LAST-MODIFIED:20250701T190837Z
UID:4724-1753783200-1753794000@staintons.com
SUMMARY:Wizard of Oz & Wicked Day – July 29\, 2025 | Downtown OCNJ
DESCRIPTION:Wizard of Oz & Wicked Day – July 29\, 2025 | Character Tuesdays in Downtown OCNJWe’re off to see the wizard — and you are too! Join us on Tuesday\, July 29\, 2025 for a special Wizard of Oz & Wicked Day in Downtown Ocean City\, part of our weekly Character Tuesdays series. \nMeet iconic characters from both The Wizard of Oz and Wicked including Dorothy\, Glinda the Good Witch\, Elphaba (The Wicked Witch of the West)\, and The Scarecrow! \n🎨 Enjoy 4 face painters and 🎈 2 balloon artists bringing even more fun to this magical event. \n📍 Location: Downtown Ocean City\, NJ🕙 Time: 10:00 AM – 1:00 PM🎉 Cost: Free and open to all ages \nClick your heels and come join the fun in Downtown OCNJ!
URL:https://staintons.com/event/wizard-of-oz-wicked-day-july-29-2025-downtown-ocnj/
LOCATION:Stainton’s\, 810 Asbury Ave\, Ocean City\, NJ\, 08226\, United States
END:VEVENT
BEGIN:VEVENT
DTSTART;TZID=UTC:20250729T190000
DTEND;TZID=UTC:20250729T210000
DTSTAMP:20260422T155915
CREATED:20250708T181029Z
LAST-MODIFIED:20250708T181029Z
UID:4981-1753815600-1753822800@staintons.com
SUMMARY:Mummers Night – Every Tuesday and Thursday | 7 p.m. to 9 p.m. | Boardwalk 6th to 14th Street\, Ocean City\, NJ
DESCRIPTION:Enjoy vibrant entertainment every Tuesday and Thursday night on the Ocean City Boardwalk featuring the Philadelphia Mummers Bands strutting from 7:00 PM to 9:00 PM between 6th and 14th Street. \n🕖 Time: 7:00 PM – 9:00 PM📍 Location: Boardwalk between 6th Street and 14th Street\, Ocean City\, NJ🎉 Cost: Free and open to the public
URL:https://staintons.com/event/mummers-night-every-tuesday-and-thursday-7-p-m-to-9-p-m-boardwalk-6th-to-14th-street-ocean-city-nj-6/
LOCATION:Ocean City Boardwalk\, 825 Boardwalk\, Ocean City\, NJ\, 08226\, United States
END:VEVENT
END:VCALENDAR