BEGIN:VCALENDAR
VERSION:2.0
PRODID:-//Stainton&#039;s - ECPv6.11.2//NONSGML v1.0//EN
CALSCALE:GREGORIAN
METHOD:PUBLISH
X-ORIGINAL-URL:https://staintons.com
X-WR-CALDESC:Events for Stainton&#039;s
REFRESH-INTERVAL;VALUE=DURATION:PT1H
X-Robots-Tag:noindex
X-PUBLISHED-TTL:PT1H
BEGIN:VTIMEZONE
TZID:UTC
BEGIN:STANDARD
TZOFFSETFROM:+0000
TZOFFSETTO:+0000
TZNAME:UTC
DTSTART:20250101T000000
END:STANDARD
END:VTIMEZONE
BEGIN:VEVENT
DTSTART;TZID=UTC:20250730T080000
DTEND;TZID=UTC:20250730T120000
DTSTAMP:20260422T155913
CREATED:20250624T194956Z
LAST-MODIFIED:20250624T194956Z
UID:4611-1753862400-1753876800@staintons.com
SUMMARY:Ocean City Farmers Market – Every Wednesday
DESCRIPTION:Every Wednesday from June 4 through September 3\, the Ocean City Farmers Market takes place from 8:00 AM to 12:00 PM at the Tabernacle Grounds (550 Wesley Ave). A beloved summer tradition\, the market features an incredible variety of fresh produce\, baked goods\, flowers\, specialty foods\, handmade crafts\, and more from local and regional vendors. Whether you’re a year-round resident or just visiting for the week\, it’s a great way to experience the heart of Ocean City’s community. \nSeveral Stainton’s vendors also participate in the market\, offering a taste of what you can find inside our stores. In addition\, we host pop-up vendors outside of Stainton’s every Wednesday\, giving visitors even more to explore downtown. Inside Stainton’s\, you’ll find over 80 independently owned shops under one roof — showcasing the best of Ocean City’s local shopping scene. \n\n \n\nProudly supporting Ocean City’s community and small business scene all summer long.
URL:https://staintons.com/event/ocean-city-farmers-market-every-wednesday-9/
LOCATION:Tabernacle\, 550 Wesley avenue\, Ocean City\, 08226\, United States
END:VEVENT
BEGIN:VEVENT
DTSTART;TZID=UTC:20250730T103000
DTEND;TZID=UTC:20250730T113000
DTSTAMP:20260422T155913
CREATED:20250625T200116Z
LAST-MODIFIED:20250625T200116Z
UID:4670-1753871400-1753875000@staintons.com
SUMMARY:Wacky Wednesday: Soft Pretzel Sculpting – July 30\, 2025
DESCRIPTION:Let your creativity twist and rise at Wacky Wednesday: Soft Pretzel Sculpting on Wednesday\, July 30 at 10:30 AM at the Ocean City Music Pier! Kids of all ages are invited to shape soft pretzels into fun and silly designs during this hands-on\, free event. \nParticipants will get their own soft pretzel dough and the freedom to sculpt\, twist\, or shape it however they like — whether it’s a beach ball\, dolphin\, or just a good old-fashioned twist. It’s messy\, silly\, and tons of fun for families visiting the shore. \nSupplies are provided and space is limited\, so early arrival is recommended. For more weekly Wacky Wednesday themes\, visit ocnj.us. \nSponsored by Philly Pretzel Factory \n 
URL:https://staintons.com/event/wacky-wednesday-soft-pretzel-sculpting-july-30-2025/
LOCATION:Ocean City Music Pier\, 825 Boardwalk\, Ocean City\, NJ\, 08226\, United States
END:VEVENT
BEGIN:VEVENT
DTSTART;TZID=UTC:20250730T193000
DTEND;TZID=UTC:20250730T210000
DTSTAMP:20260422T155913
CREATED:20250722T174332Z
LAST-MODIFIED:20250722T174419Z
UID:5389-1753903800-1753909200@staintons.com
SUMMARY:Guy Groups to Boy Bands – July 30\, 2025
DESCRIPTION:From doo-wop to disco\, harmonies to high notes\, this lively tribute spans generations of iconic male vocal groups. Sing along to hits from The Beach Boys\, The Bee Gees\, and plenty more in between as the Ocean City Music Pier comes alive with the sounds of your favorite guy groups and boy bands. \nShowtime: 7:30 p.m.Location: Ocean City Music Pier🎟 Tickets available at OceanCityVacation.com/BoxOffice
URL:https://staintons.com/event/guy-groups-to-boy-bands-july-30-2025/
LOCATION:Ocean City Music Pier\, 825 Boardwalk\, Ocean City\, NJ\, 08226\, United States
END:VEVENT
END:VCALENDAR