BEGIN:VCALENDAR
VERSION:2.0
PRODID:-//Stainton&#039;s - ECPv6.11.2//NONSGML v1.0//EN
CALSCALE:GREGORIAN
METHOD:PUBLISH
X-WR-CALNAME:Stainton&#039;s
X-ORIGINAL-URL:https://staintons.com
X-WR-CALDESC:Events for Stainton&#039;s
REFRESH-INTERVAL;VALUE=DURATION:PT1H
X-Robots-Tag:noindex
X-PUBLISHED-TTL:PT1H
BEGIN:VTIMEZONE
TZID:UTC
BEGIN:STANDARD
TZOFFSETFROM:+0000
TZOFFSETTO:+0000
TZNAME:UTC
DTSTART:20250101T000000
END:STANDARD
END:VTIMEZONE
BEGIN:VEVENT
DTSTART;TZID=UTC:20250731T170000
DTEND;TZID=UTC:20250731T220000
DTSTAMP:20260422T153924
CREATED:20250626T144609Z
LAST-MODIFIED:20250626T144609Z
UID:4680-1753981200-1753999200@staintons.com
SUMMARY:24th Annual Art of Surfing | July 31–August 2\, 2025
DESCRIPTION:Celebrate surf culture through creativity at the 24th Annual Art of Surfing\, happening July 31 – August 2\, 2025\, at the Ocean City Music Pier. This free\, family-friendly event brings together the region’s top surf-inspired artists\, photographers\, and board shapers for a weekend filled with original artwork\, live music\, and coastal community vibes. \nWidely recognized as a standout in the Jersey Shore surf scene\, the Art of Surfing features some of the most respected names in local surf art and culture — offering visitors the chance to connect with the artists and stories behind the work. Browse handcrafted surfboards\, ocean-themed fine art\, apparel\, and one-of-a-kind pieces that reflect the spirit of the sea. \nWhether you’re a surfer\, collector\, or just here for the summer\, this annual celebration is a can’t-miss Ocean City tradition. \n  \n \n  \nFind more of Bogy’s work inside Stainton’s stores.
URL:https://staintons.com/event/24th-annual-art-of-surfing-july-31-august-2-2025/
LOCATION:Ocean City Music Pier\, 825 Boardwalk\, Ocean City\, NJ\, 08226\, United States
END:VEVENT
BEGIN:VEVENT
DTSTART;TZID=UTC:20250731T190000
DTEND;TZID=UTC:20250731T210000
DTSTAMP:20260422T153924
CREATED:20250708T181207Z
LAST-MODIFIED:20250708T181207Z
UID:4983-1753988400-1753995600@staintons.com
SUMMARY:Mummers Night – Every Tuesday and Thursday | 7 p.m. to 9 p.m. | Boardwalk 6th to 14th Street\, Ocean City\, NJ
DESCRIPTION:Enjoy vibrant entertainment every Tuesday and Thursday night on the Ocean City Boardwalk featuring the Philadelphia Mummers Bands strutting from 7:00 PM to 9:00 PM between 6th and 14th Street. \n🕖 Time: 7:00 PM – 9:00 PM📍 Location: Boardwalk between 6th Street and 14th Street\, Ocean City\, NJ🎉 Cost: Free and open to the public
URL:https://staintons.com/event/mummers-night-every-tuesday-and-thursday-7-p-m-to-9-p-m-boardwalk-6th-to-14th-street-ocean-city-nj-7/
LOCATION:Ocean City Boardwalk\, 825 Boardwalk\, Ocean City\, NJ\, 08226\, United States
END:VEVENT
END:VCALENDAR