BEGIN:VCALENDAR
VERSION:2.0
PRODID:-//Stainton&#039;s - ECPv6.11.2//NONSGML v1.0//EN
CALSCALE:GREGORIAN
METHOD:PUBLISH
X-WR-CALNAME:Stainton&#039;s
X-ORIGINAL-URL:https://staintons.com
X-WR-CALDESC:Events for Stainton&#039;s
REFRESH-INTERVAL;VALUE=DURATION:PT1H
X-Robots-Tag:noindex
X-PUBLISHED-TTL:PT1H
BEGIN:VTIMEZONE
TZID:UTC
BEGIN:STANDARD
TZOFFSETFROM:+0000
TZOFFSETTO:+0000
TZNAME:UTC
DTSTART:20250101T000000
END:STANDARD
END:VTIMEZONE
BEGIN:VEVENT
DTSTART;TZID=UTC:20250801T080000
DTEND;TZID=UTC:20250801T090000
DTSTAMP:20260422T153817
CREATED:20250717T180636Z
LAST-MODIFIED:20250717T181028Z
UID:5314-1754035200-1754038800@staintons.com
SUMMARY:Friday Morning Walking Club – Free Weekly Walks in Ocean City\, NJ
DESCRIPTION:Friday Morning Walking Club – Every Friday in July & AugustStart your Friday mornings on the right foot! Ocean City’s Walking Club meets every Friday in July and August for a free\, friendly group walk along the Boardwalk. Whether you’re in it for the exercise\, the ocean views\, or the community connection\, all are welcome to join. \n🕗 Time: 8:00 a.m.📍 Location: Ocean City Boardwalk (Meeting spot may vary—call ahead for details)📞 Info: Ocean City Aquatic & Fitness Center – (609) 398-6900 \nGet outside\, move your body\, and enjoy the fresh sea breeze with fellow walkers each week!
URL:https://staintons.com/event/friday-morning-walking-club-free-weekly-walks-in-ocean-city-nj-3/
LOCATION:Ocean City Music Pier\, 825 Boardwalk\, Ocean City\, NJ\, 08226\, United States
END:VEVENT
BEGIN:VEVENT
DTSTART;TZID=UTC:20250801T080000
DTEND;TZID=UTC:20250801T170000
DTSTAMP:20260422T153817
CREATED:20250717T172733Z
LAST-MODIFIED:20250717T174203Z
UID:5296-1754035200-1754067600@staintons.com
SUMMARY:Low-Impact Beach Exercise – Free Every Friday in August
DESCRIPTION:Low-Impact Beach Exercise – Free Every Friday in August Start your Fridays with a relaxing and energizing low-impact workout by the ocean! Hosted by the Ocean City Aquatic & Fitness Center\, this free fitness class runs 8:00 a.m. to 9:00 a.m. every Friday in August at the 6th Street Beach Volleyball Courts. \nPerfect for all fitness levels—bring a towel\, dress comfortably\, and enjoy a peaceful start to your weekend with friends and fresh sea air. \n📞 For more info\, call (609) 398-6900.
URL:https://staintons.com/event/low-impact-beach-exercise-every-friday-in-july-3/
LOCATION:6th Street Volleyball Courts\, 600 boardwalk\, Ocean City\, NJ\, 08226\, United States
END:VEVENT
BEGIN:VEVENT
DTSTART;TZID=UTC:20250801T100000
DTEND;TZID=UTC:20250801T200000
DTSTAMP:20260422T153817
CREATED:20250708T135016Z
LAST-MODIFIED:20250708T135730Z
UID:4935-1754042400-1754078400@staintons.com
SUMMARY:62nd Annual Boardwalk Art Show
DESCRIPTION:Check out artwork from leading artists from all over the East Coast and buy the pieces that catch your eye. Join from 10:00 a.m. to 8:00 p.m.
URL:https://staintons.com/event/62nd-annual-boardwalk-art-show/
LOCATION:Ocean City Boardwalk\, 825 Boardwalk\, Ocean City\, NJ\, 08226\, United States
END:VEVENT
BEGIN:VEVENT
DTSTART;TZID=UTC:20250801T120000
DTEND;TZID=UTC:20250801T220000
DTSTAMP:20260422T153817
CREATED:20250722T171805Z
LAST-MODIFIED:20250722T171828Z
UID:5385-1754049600-1754085600@staintons.com
SUMMARY:24th Annual Art of Surfing | July 31–August 2\, 2025
DESCRIPTION:Celebrate surf culture through creativity at the 24th Annual Art of Surfing\, happening July 31 – August 2\, 2025\, at the Ocean City Music Pier. This free\, family-friendly event brings together the region’s top surf-inspired artists\, photographers\, and board shapers for a weekend filled with original artwork\, live music\, and coastal community vibes. \nWidely recognized as a standout in the Jersey Shore surf scene\, the Art of Surfing features some of the most respected names in local surf art and culture — offering visitors the chance to connect with the artists and stories behind the work. Browse handcrafted surfboards\, ocean-themed fine art\, apparel\, and one-of-a-kind pieces that reflect the spirit of the sea. \nWhether you’re a surfer\, collector\, or just here for the summer\, this annual celebration is a can’t-miss Ocean City tradition.
URL:https://staintons.com/event/24th-annual-art-of-surfing-july-31-august-2-2025-2/
LOCATION:Ocean City Music Pier\, 825 Boardwalk\, Ocean City\, NJ\, 08226\, United States
END:VEVENT
END:VCALENDAR