BEGIN:VCALENDAR
VERSION:2.0
PRODID:-//Stainton&#039;s - ECPv6.11.2//NONSGML v1.0//EN
CALSCALE:GREGORIAN
METHOD:PUBLISH
X-WR-CALNAME:Stainton&#039;s
X-ORIGINAL-URL:https://staintons.com
X-WR-CALDESC:Events for Stainton&#039;s
REFRESH-INTERVAL;VALUE=DURATION:PT1H
X-Robots-Tag:noindex
X-PUBLISHED-TTL:PT1H
BEGIN:VTIMEZONE
TZID:UTC
BEGIN:STANDARD
TZOFFSETFROM:+0000
TZOFFSETTO:+0000
TZNAME:UTC
DTSTART:20250101T000000
END:STANDARD
END:VTIMEZONE
BEGIN:VEVENT
DTSTART;TZID=UTC:20250802T100000
DTEND;TZID=UTC:20250802T200000
DTSTAMP:20260422T153818
CREATED:20250708T135055Z
LAST-MODIFIED:20250708T135801Z
UID:4937-1754128800-1754164800@staintons.com
SUMMARY:62nd Annual Boardwalk Art Show
DESCRIPTION:Check out artwork from leading artists from all over the East Coast and buy the pieces that catch your eye. Join from 10:00 a.m. to 8:00 p.m.
URL:https://staintons.com/event/62nd-annual-boardwalk-art-show-2/
LOCATION:Ocean City Boardwalk\, 825 Boardwalk\, Ocean City\, NJ\, 08226\, United States
END:VEVENT
BEGIN:VEVENT
DTSTART;TZID=UTC:20250802T120000
DTEND;TZID=UTC:20250802T220000
DTSTAMP:20260422T153818
CREATED:20250722T172512Z
LAST-MODIFIED:20250722T172539Z
UID:5387-1754136000-1754172000@staintons.com
SUMMARY:24th Annual Art of Surfing | July 31–August 2\, 2025
DESCRIPTION:Celebrate surf culture through creativity at the 24th Annual Art of Surfing\, happening July 31 – August 2\, 2025\, at the Ocean City Music Pier. This free\, family-friendly event brings together the region’s top surf-inspired artists\, photographers\, and board shapers for a weekend filled with original artwork\, live music\, and coastal community vibes. \nWidely recognized as a standout in the Jersey Shore surf scene\, the Art of Surfing features some of the most respected names in local surf art and culture — offering visitors the chance to connect with the artists and stories behind the work. Browse handcrafted surfboards\, ocean-themed fine art\, apparel\, and one-of-a-kind pieces that reflect the spirit of the sea. \nWhether you’re a surfer\, collector\, or just here for the summer\, this annual celebration is a can’t-miss Ocean City tradition.
URL:https://staintons.com/event/24th-annual-art-of-surfing-july-31-august-2-2025-3/
LOCATION:Ocean City Music Pier\, 825 Boardwalk\, Ocean City\, NJ\, 08226\, United States
END:VEVENT
END:VCALENDAR