BEGIN:VCALENDAR
VERSION:2.0
PRODID:-//Stainton&#039;s - ECPv6.11.2//NONSGML v1.0//EN
CALSCALE:GREGORIAN
METHOD:PUBLISH
X-WR-CALNAME:Stainton&#039;s
X-ORIGINAL-URL:https://staintons.com
X-WR-CALDESC:Events for Stainton&#039;s
REFRESH-INTERVAL;VALUE=DURATION:PT1H
X-Robots-Tag:noindex
X-PUBLISHED-TTL:PT1H
BEGIN:VTIMEZONE
TZID:UTC
BEGIN:STANDARD
TZOFFSETFROM:+0000
TZOFFSETTO:+0000
TZNAME:UTC
DTSTART:20250101T000000
END:STANDARD
END:VTIMEZONE
BEGIN:VEVENT
DTSTART;TZID=UTC:20250805T100000
DTEND;TZID=UTC:20250805T130000
DTSTAMP:20260422T193510
CREATED:20250701T191327Z
LAST-MODIFIED:20250701T191327Z
UID:4726-1754388000-1754398800@staintons.com
SUMMARY:Land & Sea Day – August 5\, 2025 | Character Tuesdays in Downtown OCNJ
DESCRIPTION:Land & Sea Day – August 5\, 2025 | Character Tuesdays in Downtown OCNJMake waves and take flight! Join us on Tuesday\, August 5\, 2025 for a special Land & Sea Day in Downtown Ocean City\, part of our weekly Character Tuesdays series. \nMeet beloved characters from land and sea\, including Ariel\, Moana\, Peter Pan\, and Captain Hook! \n🎨 Enjoy 4 face painters and 🎈 2 balloon artists bringing even more fun to this adventurous event. \n📍 Location: Downtown Ocean City\, NJ🕙 Time: 10:00 AM – 1:00 PM🎉 Cost: Free and open to all ages \nWhether you’re sailing the seas or soaring through the skies\, come be part of the magic in Downtown OCNJ!
URL:https://staintons.com/event/land-sea-day-august-5-2025-character-tuesdays-in-downtown-ocnj/
LOCATION:Stainton’s\, 810 Asbury Ave\, Ocean City\, NJ\, 08226\, United States
END:VEVENT
BEGIN:VEVENT
DTSTART;TZID=UTC:20250805T190000
DTEND;TZID=UTC:20250805T210000
DTSTAMP:20260422T193510
CREATED:20250708T181527Z
LAST-MODIFIED:20250708T181527Z
UID:4985-1754420400-1754427600@staintons.com
SUMMARY:Mummers Night – Every Tuesday and Thursday | 7 p.m. to 9 p.m. | Boardwalk 6th to 14th Street\, Ocean City\, NJ
DESCRIPTION:Enjoy vibrant entertainment every Tuesday and Thursday night on the Ocean City Boardwalk featuring the Philadelphia Mummers Bands strutting from 7:00 PM to 9:00 PM between 6th and 14th Street. \n🕖 Time: 7:00 PM – 9:00 PM📍 Location: Boardwalk between 6th Street and 14th Street\, Ocean City\, NJ🎉 Cost: Free and open to the public
URL:https://staintons.com/event/mummers-night-every-tuesday-and-thursday-7-p-m-to-9-p-m-boardwalk-6th-to-14th-street-ocean-city-nj-8/
LOCATION:Ocean City Boardwalk\, 825 Boardwalk\, Ocean City\, NJ\, 08226\, United States
END:VEVENT
END:VCALENDAR