BEGIN:VCALENDAR
VERSION:2.0
PRODID:-//Stainton&#039;s - ECPv6.11.2//NONSGML v1.0//EN
CALSCALE:GREGORIAN
METHOD:PUBLISH
X-WR-CALNAME:Stainton&#039;s
X-ORIGINAL-URL:https://staintons.com
X-WR-CALDESC:Events for Stainton&#039;s
REFRESH-INTERVAL;VALUE=DURATION:PT1H
X-Robots-Tag:noindex
X-PUBLISHED-TTL:PT1H
BEGIN:VTIMEZONE
TZID:UTC
BEGIN:STANDARD
TZOFFSETFROM:+0000
TZOFFSETTO:+0000
TZNAME:UTC
DTSTART:20250101T000000
END:STANDARD
END:VTIMEZONE
BEGIN:VEVENT
DTSTART;TZID=UTC:20250806T080000
DTEND;TZID=UTC:20250806T120000
DTSTAMP:20260422T175339
CREATED:20250624T195226Z
LAST-MODIFIED:20250624T195226Z
UID:4613-1754467200-1754481600@staintons.com
SUMMARY:Ocean City Farmers Market – Every Wednesday
DESCRIPTION:Every Wednesday from June 4 through September 3\, the Ocean City Farmers Market takes place from 8:00 AM to 12:00 PM at the Tabernacle Grounds (550 Wesley Ave). A beloved summer tradition\, the market features an incredible variety of fresh produce\, baked goods\, flowers\, specialty foods\, handmade crafts\, and more from local and regional vendors. Whether you’re a year-round resident or just visiting for the week\, it’s a great way to experience the heart of Ocean City’s community. \nSeveral Stainton’s vendors also participate in the market\, offering a taste of what you can find inside our stores. In addition\, we host pop-up vendors outside of Stainton’s every Wednesday\, giving visitors even more to explore downtown. Inside Stainton’s\, you’ll find over 80 independently owned shops under one roof — showcasing the best of Ocean City’s local shopping scene. \n\n \n\nProudly supporting Ocean City’s community and small business scene all summer long.
URL:https://staintons.com/event/ocean-city-farmers-market-every-wednesday-10/
LOCATION:Tabernacle\, 550 Wesley avenue\, Ocean City\, 08226\, United States
END:VEVENT
BEGIN:VEVENT
DTSTART;TZID=UTC:20250806T103000
DTEND;TZID=UTC:20250806T113000
DTSTAMP:20260422T175339
CREATED:20250708T135634Z
LAST-MODIFIED:20250708T135634Z
UID:4941-1754476200-1754479800@staintons.com
SUMMARY:Wacky Wednesday (Prince and Princess Party)
DESCRIPTION:Channel your creativity and design your own Prince or Princess crown alongside Miss Ocean City\, Junior Miss Ocean City\, and Little Miss Ocean City! The contest is free\, but make sure to be present at the Music Pier at 10:30 a.m. to participate.
URL:https://staintons.com/event/wacky-wednesday-prince-and-princess-party/
LOCATION:Ocean City Music Pier\, 825 Boardwalk\, Ocean City\, NJ\, 08226\, United States
END:VEVENT
BEGIN:VEVENT
DTSTART;TZID=UTC:20250806T173000
DTEND;TZID=UTC:20250806T193000
DTSTAMP:20260422T175339
CREATED:20250708T140142Z
LAST-MODIFIED:20250708T140142Z
UID:4943-1754501400-1754508600@staintons.com
SUMMARY:Twins Contest
DESCRIPTION:Do you have a twin that looks exactly like you? Or maybe nothing like you at all? Enter the twins contest and earn a prize for looking most alike or least alike! Contest is open to all ages and registration is free at 5:30 p.m. The contest will begin at 6:00 p.m. in front of the Music Pier.
URL:https://staintons.com/event/twins-contest/
LOCATION:Ocean City Music Pier\, 825 Boardwalk\, Ocean City\, NJ\, 08226\, United States
END:VEVENT
END:VCALENDAR