BEGIN:VCALENDAR
VERSION:2.0
PRODID:-//Stainton&#039;s - ECPv6.11.2//NONSGML v1.0//EN
CALSCALE:GREGORIAN
METHOD:PUBLISH
X-ORIGINAL-URL:https://staintons.com
X-WR-CALDESC:Events for Stainton&#039;s
REFRESH-INTERVAL;VALUE=DURATION:PT1H
X-Robots-Tag:noindex
X-PUBLISHED-TTL:PT1H
BEGIN:VTIMEZONE
TZID:UTC
BEGIN:STANDARD
TZOFFSETFROM:+0000
TZOFFSETTO:+0000
TZNAME:UTC
DTSTART:20250101T000000
END:STANDARD
END:VTIMEZONE
BEGIN:VEVENT
DTSTART;TZID=UTC:20250807T090000
DTEND;TZID=UTC:20250807T120000
DTSTAMP:20260422T193638
CREATED:20250701T201859Z
LAST-MODIFIED:20250701T201859Z
UID:4765-1754557200-1754568000@staintons.com
SUMMARY:Sand Sculpting Contest – August 7\, 2025 | 6th Street Beach\, Ocean City NJ
DESCRIPTION:Get creative in the sand at Ocean City’s Sand Sculpting Contest — open to kids\, teens\, adults\, and families! Whether you’re a casual builder or a sand art pro\, all are welcome. \nRegistration is free and begins at 9:00 AM. Judging wraps up by 11:00 AM\, so bring your best ideas and build fast! \n📍 Location: 6th Street Beach\, Ocean City\, NJ🕘 Time: Registration at 9:00 AM | Judging by 11:00 AM \nBuckets\, shovels\, and big imaginations encouraged!
URL:https://staintons.com/event/sand-sculpting-contest-august-7-2025-6th-street-beach-ocean-city-nj/
LOCATION:6th Street Beach\, 600 boardwalk\, Ocean City\, NJ\, 08226\, United States
END:VEVENT
BEGIN:VEVENT
DTSTART;TZID=UTC:20250807T190000
DTEND;TZID=UTC:20250807T210000
DTSTAMP:20260422T193638
CREATED:20250708T181649Z
LAST-MODIFIED:20250708T181649Z
UID:4987-1754593200-1754600400@staintons.com
SUMMARY:Mummers Night – Every Tuesday and Thursday | 7 p.m. to 9 p.m. | Boardwalk 6th to 14th Street\, Ocean City\, NJ
DESCRIPTION:Enjoy vibrant entertainment every Tuesday and Thursday night on the Ocean City Boardwalk featuring the Philadelphia Mummers Bands strutting from 7:00 PM to 9:00 PM between 6th and 14th Street. \n🕖 Time: 7:00 PM – 9:00 PM📍 Location: Boardwalk between 6th Street and 14th Street\, Ocean City\, NJ🎉 Cost: Free and open to the public
URL:https://staintons.com/event/mummers-night-every-tuesday-and-thursday-7-p-m-to-9-p-m-boardwalk-6th-to-14th-street-ocean-city-nj-9/
LOCATION:Ocean City Boardwalk\, 825 Boardwalk\, Ocean City\, NJ\, 08226\, United States
END:VEVENT
END:VCALENDAR