BEGIN:VCALENDAR
VERSION:2.0
PRODID:-//Stainton&#039;s - ECPv6.11.2//NONSGML v1.0//EN
CALSCALE:GREGORIAN
METHOD:PUBLISH
X-ORIGINAL-URL:https://staintons.com
X-WR-CALDESC:Events for Stainton&#039;s
REFRESH-INTERVAL;VALUE=DURATION:PT1H
X-Robots-Tag:noindex
X-PUBLISHED-TTL:PT1H
BEGIN:VTIMEZONE
TZID:UTC
BEGIN:STANDARD
TZOFFSETFROM:+0000
TZOFFSETTO:+0000
TZNAME:UTC
DTSTART:20250101T000000
END:STANDARD
END:VTIMEZONE
BEGIN:VEVENT
DTSTART;TZID=UTC:20250809T090000
DTEND;TZID=UTC:20250809T130000
DTSTAMP:20260422T182013
CREATED:20250701T200304Z
LAST-MODIFIED:20250701T200304Z
UID:4756-1754730000-1754744400@staintons.com
SUMMARY:Boys & Girls Fishing Tournament – August 9\, 2025 | Ocean City\, NJ
DESCRIPTION:Join us for the annual Boys & Girls Fishing Tournament on Saturday\, August 9\, 2025! This fun\, free event is open to kids ages 8–16 and includes prizes for all participants. \n📍 Location: North-End beach near the Longport Bridge🕘 Sign-ups begin at 9:00 AM – Parent/guardian signature required at registration🎣 Hosted by: Ocean City Fishing Club & the City of Ocean City \n \nFree entry & every participant receives a prize!
URL:https://staintons.com/event/boys-girls-fishing-tournament-august-9-2025-ocean-city-nj/
LOCATION:North End Beach\, 1210 Gardens Parkway\, Ocean City\, NJ\, 08226\, United States
END:VEVENT
BEGIN:VEVENT
DTSTART;TZID=UTC:20250809T190000
DTEND;TZID=UTC:20250809T210000
DTSTAMP:20260422T182013
CREATED:20250701T200921Z
LAST-MODIFIED:20250701T200921Z
UID:4761-1754766000-1754773200@staintons.com
SUMMARY:Miss Ocean City Pageant – August 9\, 2025 | Ocean City Music Pier
DESCRIPTION:Celebrate grace\, talent\, and community at the Miss Ocean City Pageant on Saturday\, August 9\, 2025\, at the iconic Ocean City Music Pier. Join reigning Miss Ocean City Taylor Mulford as contestants compete in: \n\nInterview\nTalent\nSwimsuit\nEvening Gown\nOn-stage Question\n\n📍 Location: Ocean City Music Pier🕖 Time: 7:00 PM \n \nCome cheer on the next generation of Ocean City leaders!
URL:https://staintons.com/event/miss-ocean-city-pageant-august-9-2025-ocean-city-music-pier/
LOCATION:Ocean City Music Pier\, 825 Boardwalk\, Ocean City\, NJ\, 08226\, United States
END:VEVENT
END:VCALENDAR