BEGIN:VCALENDAR
VERSION:2.0
PRODID:-//Stainton&#039;s - ECPv6.11.2//NONSGML v1.0//EN
CALSCALE:GREGORIAN
METHOD:PUBLISH
X-WR-CALNAME:Stainton&#039;s
X-ORIGINAL-URL:https://staintons.com
X-WR-CALDESC:Events for Stainton&#039;s
REFRESH-INTERVAL;VALUE=DURATION:PT1H
X-Robots-Tag:noindex
X-PUBLISHED-TTL:PT1H
BEGIN:VTIMEZONE
TZID:UTC
BEGIN:STANDARD
TZOFFSETFROM:+0000
TZOFFSETTO:+0000
TZNAME:UTC
DTSTART:20250101T000000
END:STANDARD
END:VTIMEZONE
BEGIN:VEVENT
DTSTART;TZID=UTC:20250814T103000
DTEND;TZID=UTC:20250814T130000
DTSTAMP:20260422T175322
CREATED:20250708T201451Z
LAST-MODIFIED:20250708T201451Z
UID:5007-1755167400-1755176400@staintons.com
SUMMARY:115th Annual Baby Parade – August 14\, 2025 | Ocean City Boardwalk
DESCRIPTION:Don’t miss a cherished Ocean City tradition! The 115th Annual Baby Parade—one of the oldest baby parades in the country—returns to the Boardwalk on Thursday\, August 14\, 2025\, starting at 10:30 AM. Families dress up their little ones in themed costumes and floats for a heartwarming and whimsical procession. \n🗓️ Date: Thursday\, August 14\, 2025🕥 Time: 10:30 AM📍 Location: Ocean City Boardwalk📝 Registration: Opens June 2025🌐 More Info: ocnj.us/babyparade🎉 Cost: Free to watch; entry info online
URL:https://staintons.com/event/115th-annual-baby-parade-august-14-2025-ocean-city-boardwalk/
LOCATION:Ocean City Boardwalk\, 825 Boardwalk\, Ocean City\, NJ\, 08226\, United States
END:VEVENT
BEGIN:VEVENT
DTSTART;TZID=UTC:20250814T190000
DTEND;TZID=UTC:20250814T210000
DTSTAMP:20260422T175322
CREATED:20250708T182518Z
LAST-MODIFIED:20250708T182518Z
UID:4991-1755198000-1755205200@staintons.com
SUMMARY:Mummers Night – Every Tuesday and Thursday | 7 p.m. to 9 p.m. | Boardwalk 6th to 14th Street\, Ocean City\, NJ
DESCRIPTION:Enjoy vibrant entertainment every Tuesday and Thursday night on the Ocean City Boardwalk featuring the Philadelphia Mummers Bands strutting from 7:00 PM to 9:00 PM between 6th and 14th Street. \n🕖 Time: 7:00 PM – 9:00 PM📍 Location: Boardwalk between 6th Street and 14th Street\, Ocean City\, NJ🎉 Cost: Free and open to the public
URL:https://staintons.com/event/mummers-night-every-tuesday-and-thursday-7-p-m-to-9-p-m-boardwalk-6th-to-14th-street-ocean-city-nj-11/
LOCATION:Ocean City Boardwalk\, 825 Boardwalk\, Ocean City\, NJ\, 08226\, United States
END:VEVENT
END:VCALENDAR