BEGIN:VCALENDAR
VERSION:2.0
PRODID:-//Stainton&#039;s - ECPv6.11.2//NONSGML v1.0//EN
CALSCALE:GREGORIAN
METHOD:PUBLISH
X-ORIGINAL-URL:https://staintons.com
X-WR-CALDESC:Events for Stainton&#039;s
REFRESH-INTERVAL;VALUE=DURATION:PT1H
X-Robots-Tag:noindex
X-PUBLISHED-TTL:PT1H
BEGIN:VTIMEZONE
TZID:UTC
BEGIN:STANDARD
TZOFFSETFROM:+0000
TZOFFSETTO:+0000
TZNAME:UTC
DTSTART:20250101T000000
END:STANDARD
END:VTIMEZONE
BEGIN:VEVENT
DTSTART;TZID=UTC:20250815T080000
DTEND;TZID=UTC:20250815T090000
DTSTAMP:20260422T181947
CREATED:20250717T173618Z
LAST-MODIFIED:20250717T173632Z
UID:5302-1755244800-1755248400@staintons.com
SUMMARY:Low-Impact Beach Exercise – Every Friday in August
DESCRIPTION:Low-Impact Beach Exercise – Free Every Friday in AugustStart your Fridays with a relaxing and energizing low-impact workout by the ocean! Hosted by the Ocean City Aquatic & Fitness Center\, this free fitness class runs 8:00 a.m. to 9:00 a.m. every Friday in August at the 6th Street Beach Volleyball Courts. \nPerfect for all fitness levels—bring a towel\, dress comfortably\, and enjoy a peaceful start to your weekend with friends and fresh sea air. \n📞 For more info\, call (609) 398-6900.
URL:https://staintons.com/event/low-impact-beach-exercise-every-friday-in-august-2/
LOCATION:6th Street Volleyball Courts\, 600 boardwalk\, Ocean City\, NJ\, 08226\, United States
END:VEVENT
BEGIN:VEVENT
DTSTART;TZID=UTC:20250815T080000
DTEND;TZID=UTC:20250815T090000
DTSTAMP:20260422T181947
CREATED:20250717T182159Z
LAST-MODIFIED:20250717T182159Z
UID:5318-1755244800-1755248400@staintons.com
SUMMARY:Friday Morning Walking Club – Free Weekly Walks in Ocean City\, NJ
DESCRIPTION:Friday Morning Walking Club – Every Friday in July & AugustStart your Friday mornings on the right foot! Ocean City’s Walking Club meets every Friday in July and August for a free\, friendly group walk along the Boardwalk. Whether you’re in it for the exercise\, the ocean views\, or the community connection\, all are welcome to join. \n🕗 Time: 8:00 a.m.📍 Location: Ocean City Boardwalk (Meeting spot may vary—call ahead for details)📞 Info: Ocean City Aquatic & Fitness Center – (609) 398-6900 \nGet outside\, move your body\, and enjoy the fresh sea breeze with fellow walkers each week!
URL:https://staintons.com/event/friday-morning-walking-club-free-weekly-walks-in-ocean-city-nj-5/
LOCATION:Ocean City Music Pier\, 825 Boardwalk\, Ocean City\, NJ\, 08226\, United States
END:VEVENT
BEGIN:VEVENT
DTSTART;TZID=UTC:20250815T190000
DTEND;TZID=UTC:20250815T200000
DTSTAMP:20260422T181947
CREATED:20250708T201929Z
LAST-MODIFIED:20250708T201929Z
UID:5011-1755284400-1755288000@staintons.com
SUMMARY:Little Miss Ocean City Pageant – August 15\, 2025 | 7:00 PM at the Ocean City Music Pier
DESCRIPTION:Join us for the Little Miss Ocean City Pageant on Friday\, August 15\, 2025\, at the Ocean City Music Pier. This annual scholarship competition showcases girls ages 8 to 11 as they compete in a fun and inspiring evening of talent and personality. \nThe event begins at 7:00 PM and will conclude with the crowning of the new Little Miss Ocean City 2025. \n🗓️ Date: Friday\, August 15\, 2025🕖 Time: 7:00 PM📍 Location: Ocean City Music Pier\, Moorlyn Terrace & the Boardwalk🎟️ Cost: Free and open to the public
URL:https://staintons.com/event/little-miss-ocean-city-pageant-august-15-2025-700-pm-at-the-ocean-city-music-pier/
LOCATION:Ocean City Music Pier\, 825 Boardwalk\, Ocean City\, NJ\, 08226\, United States
END:VEVENT
END:VCALENDAR