BEGIN:VCALENDAR
VERSION:2.0
PRODID:-//Stainton&#039;s - ECPv6.11.2//NONSGML v1.0//EN
CALSCALE:GREGORIAN
METHOD:PUBLISH
X-ORIGINAL-URL:https://staintons.com
X-WR-CALDESC:Events for Stainton&#039;s
REFRESH-INTERVAL;VALUE=DURATION:PT1H
X-Robots-Tag:noindex
X-PUBLISHED-TTL:PT1H
BEGIN:VTIMEZONE
TZID:UTC
BEGIN:STANDARD
TZOFFSETFROM:+0000
TZOFFSETTO:+0000
TZNAME:UTC
DTSTART:20250101T000000
END:STANDARD
END:VTIMEZONE
BEGIN:VEVENT
DTSTART;TZID=UTC:20250818T080000
DTEND;TZID=UTC:20250818T090000
DTSTAMP:20260422T193637
CREATED:20250701T194414Z
LAST-MODIFIED:20250701T194414Z
UID:4741-1755504000-1755507600@staintons.com
SUMMARY:August Beach Yoga in Ocean City NJ | Free Monday Morning Exercise
DESCRIPTION:Beach Exercise (Yoga) — Every MondayStart your week with a refreshing yoga session on the 6th Street Beach Volleyball Courts. Time: 8:00 AM – 9:00 AM Cost: Free!What to bring: A towel and a friend.Hosted by: Ocean City Aquatic & Fitness Center \nInfo: (609) 398-6900 \n 
URL:https://staintons.com/event/august-beach-yoga-in-ocean-city-nj-free-monday-morning-exercise-3/
LOCATION:6th Street Beach\, 600 boardwalk\, Ocean City\, NJ\, 08226\, United States
END:VEVENT
BEGIN:VEVENT
DTSTART;TZID=UTC:20250818T190000
DTEND;TZID=UTC:20250818T210000
DTSTAMP:20260422T193637
CREATED:20250703T140910Z
LAST-MODIFIED:20250703T141141Z
UID:4852-1755543600-1755550800@staintons.com
SUMMARY:Family Nights — Every Monday on the Boardwalk in Ocean City\, NJ
DESCRIPTION:Enjoy family-friendly entertainment every Monday night on the Ocean City Boardwalk featuring jugglers\, live music\, characters\, and more from 7:00 PM to 9:00 PM between 6th and 14th Street. \n🕖 Time: 7:00 PM – 9:00 PM📍 Location: Boardwalk between 6th Street and 14th Street\, Ocean City\, NJ🎉 Cost: Free and open to the public \n \nBring your family and friends to experience the excitement and magic of Family Nights Entertainment in Downtown Ocean City!
URL:https://staintons.com/event/family-nights-every-monday-on-the-boardwalk-in-ocean-city-nj-6/
LOCATION:Ocean City Boardwalk\, 825 Boardwalk\, Ocean City\, NJ\, 08226\, United States
END:VEVENT
END:VCALENDAR