BEGIN:VCALENDAR
VERSION:2.0
PRODID:-//Stainton&#039;s - ECPv6.11.2//NONSGML v1.0//EN
CALSCALE:GREGORIAN
METHOD:PUBLISH
X-ORIGINAL-URL:https://staintons.com
X-WR-CALDESC:Events for Stainton&#039;s
REFRESH-INTERVAL;VALUE=DURATION:PT1H
X-Robots-Tag:noindex
X-PUBLISHED-TTL:PT1H
BEGIN:VTIMEZONE
TZID:UTC
BEGIN:STANDARD
TZOFFSETFROM:+0000
TZOFFSETTO:+0000
TZNAME:UTC
DTSTART:20250101T000000
END:STANDARD
END:VTIMEZONE
BEGIN:VEVENT
DTSTART;TZID=UTC:20250820T080000
DTEND;TZID=UTC:20250820T120000
DTSTAMP:20260422T175441
CREATED:20250624T195616Z
LAST-MODIFIED:20250624T195616Z
UID:4617-1755676800-1755691200@staintons.com
SUMMARY:Ocean City Farmers Market – Every Wednesday
DESCRIPTION:Every Wednesday from June 4 through September 3\, the Ocean City Farmers Market takes place from 8:00 AM to 12:00 PM at the Tabernacle Grounds (550 Wesley Ave). A beloved summer tradition\, the market features an incredible variety of fresh produce\, baked goods\, flowers\, specialty foods\, handmade crafts\, and more from local and regional vendors. Whether you’re a year-round resident or just visiting for the week\, it’s a great way to experience the heart of Ocean City’s community. \nSeveral Stainton’s vendors also participate in the market\, offering a taste of what you can find inside our stores. In addition\, we host pop-up vendors outside of Stainton’s every Wednesday\, giving visitors even more to explore downtown. Inside Stainton’s\, you’ll find over 80 independently owned shops under one roof — showcasing the best of Ocean City’s local shopping scene. \n\n \n\n \nProudly supporting Ocean City’s community and small business scene all summer long.
URL:https://staintons.com/event/ocean-city-farmers-market-every-wednesday-12/
LOCATION:Tabernacle\, 550 Wesley avenue\, Ocean City\, 08226\, United States
END:VEVENT
BEGIN:VEVENT
DTSTART;TZID=UTC:20250820T180000
DTEND;TZID=UTC:20250820T200000
DTSTAMP:20260422T175441
CREATED:20250708T201022Z
LAST-MODIFIED:20250708T201022Z
UID:5001-1755712800-1755720000@staintons.com
SUMMARY:Miss Crustacean Hermit Crab Beauty Pageant – August 20\, 2025 | 6th Street Beach\, Ocean City\, NJ
DESCRIPTION:Celebrate one of Ocean City’s most beloved and offbeat traditions — the Miss Crustacean Hermit Crab Beauty Pageant! This original beauty contest for crustaceans invites families\, kids\, businesses\, and organizations to enter their hermit crabs in a fun and creative competition. \nThe lucky winner receives the Coveted Cucumber Rind Cup and walks the flowery runway in true crustacean fashion. Costumes\, themes\, and creativity are encouraged! \n🗓️ Date: August 20\, 2025🕠 Registration: Begins at 5:30 PM🕕 Contest Start: 6:00 PM📍 Location: 6th Street Beach\, Ocean City\, NJ🎉 Cost: Free and open to all ages
URL:https://staintons.com/event/miss-crustacean-hermit-crab-beauty-pageant-august-20-2025-6th-street-beach-ocean-city-nj/
LOCATION:6th Street Beach\, 600 boardwalk\, Ocean City\, NJ\, 08226\, United States
END:VEVENT
END:VCALENDAR