BEGIN:VCALENDAR
VERSION:2.0
PRODID:-//Stainton&#039;s - ECPv6.11.2//NONSGML v1.0//EN
CALSCALE:GREGORIAN
METHOD:PUBLISH
X-ORIGINAL-URL:https://staintons.com
X-WR-CALDESC:Events for Stainton&#039;s
REFRESH-INTERVAL;VALUE=DURATION:PT1H
X-Robots-Tag:noindex
X-PUBLISHED-TTL:PT1H
BEGIN:VTIMEZONE
TZID:UTC
BEGIN:STANDARD
TZOFFSETFROM:+0000
TZOFFSETTO:+0000
TZNAME:UTC
DTSTART:20250101T000000
END:STANDARD
END:VTIMEZONE
BEGIN:VEVENT
DTSTART;TZID=UTC:20250822T080000
DTEND;TZID=UTC:20250822T090000
DTSTAMP:20260422T181956
CREATED:20250717T173748Z
LAST-MODIFIED:20250717T174055Z
UID:5304-1755849600-1755853200@staintons.com
SUMMARY:Low-Impact Beach Exercise – Every Friday in August
DESCRIPTION:Low-Impact Beach Exercise – Free Every Friday in August Start your Fridays with a relaxing and energizing low-impact workout by the ocean! Hosted by the Ocean City Aquatic & Fitness Center\, this free fitness class runs 8:00 a.m. to 9:00 a.m. every Friday in August at the 6th Street Beach Volleyball Courts. \nPerfect for all fitness levels—bring a towel\, dress comfortably\, and enjoy a peaceful start to your weekend with friends and fresh sea air. \n📞 For more info\, call (609) 398-6900.
URL:https://staintons.com/event/low-impact-beach-exercise-every-friday-in-august-3/
LOCATION:6th Street Volleyball Courts\, 600 boardwalk\, Ocean City\, NJ\, 08226\, United States
END:VEVENT
BEGIN:VEVENT
DTSTART;TZID=UTC:20250822T080000
DTEND;TZID=UTC:20250822T090000
DTSTAMP:20260422T181956
CREATED:20250717T182255Z
LAST-MODIFIED:20250717T182827Z
UID:5320-1755849600-1755853200@staintons.com
SUMMARY:Friday Morning Walking Club – Free Weekly Walks in Ocean City\, NJ
DESCRIPTION:Friday Morning Walking Club – Every Friday in July & AugustStart your Friday mornings on the right foot! Ocean City’s Walking Club meets every Friday in July and August for a free\, friendly group walk along the Boardwalk. Whether you’re in it for the exercise\, the ocean views\, or the community connection\, all are welcome to join. \n🕗 Time: 8:00 a.m.📍 Location: Ocean City Boardwalk (Meeting spot may vary—call ahead for details)📞 Info: Ocean City Aquatic & Fitness Center – (609) 398-6900 \nGet outside\, move your body\, and enjoy the fresh sea breeze with fellow walkers each week!
URL:https://staintons.com/event/friday-morning-walking-club-free-weekly-walks-in-ocean-city-nj-6/
LOCATION:Ocean City Music Pier\, 825 Boardwalk\, Ocean City\, NJ\, 08226\, United States
END:VEVENT
BEGIN:VEVENT
DTSTART;TZID=UTC:20250822T090000
DTEND;TZID=UTC:20250822T130000
DTSTAMP:20260422T181956
CREATED:20250710T191123Z
LAST-MODIFIED:20250710T191209Z
UID:5151-1755853200-1755867600@staintons.com
SUMMARY:Ocean City Green Fair – August 22 at the Music Pier
DESCRIPTION:The Ocean City Green Fair will take place on Friday\, August 22nd\, from 9:00 a.m. to 1:00 p.m. at the Music Pier. Hosted by the Ocean City Environmental Commission\, this communitywide event is designed to educate and encourage people of all ages to live a more environmentally friendly lifestyle. \nStop by to explore eco-conscious vendors\, learn about local sustainability efforts\, and discover small changes that can make a big difference.
URL:https://staintons.com/event/ocean-city-green-fair-august-22-at-the-music-pier/
LOCATION:Ocean City Music Pier\, 825 Boardwalk\, Ocean City\, NJ\, 08226\, United States
END:VEVENT
BEGIN:VEVENT
DTSTART;TZID=UTC:20250822T193000
DTEND;TZID=UTC:20250822T213000
DTSTAMP:20260422T181956
CREATED:20250710T191855Z
LAST-MODIFIED:20250710T191855Z
UID:5153-1755891000-1755898200@staintons.com
SUMMARY:The SpongeBob Musical: Youth Edition – Presented by OCTC
DESCRIPTION:Dive into the world of Bikini Bottom with OCTC’s Middle School Junior Company as they present The SpongeBob Musical: Youth Edition! This high-energy\, all-singing\, all-dancing musical follows SpongeBob and his friends as they band together to save their undersea home from a volcanic eruption. It’s a hilarious\, heartfelt story about friendship\, teamwork\, and the power of optimism. \nThis family-friendly performance takes place on August 22nd and 23rd at 7:30 p.m. at the Ocean City Music Pier. Don’t miss the chance to experience this colorful and dynamic stage show\, perfect for kids and adults alike!
URL:https://staintons.com/event/the-spongebob-musical-youth-edition-presented-by-octc/
LOCATION:Ocean City Music Pier\, 825 Boardwalk\, Ocean City\, NJ\, 08226\, United States
END:VEVENT
END:VCALENDAR