BEGIN:VCALENDAR
VERSION:2.0
PRODID:-//Stainton&#039;s - ECPv6.11.2//NONSGML v1.0//EN
CALSCALE:GREGORIAN
METHOD:PUBLISH
X-WR-CALNAME:Stainton&#039;s
X-ORIGINAL-URL:https://staintons.com
X-WR-CALDESC:Events for Stainton&#039;s
REFRESH-INTERVAL;VALUE=DURATION:PT1H
X-Robots-Tag:noindex
X-PUBLISHED-TTL:PT1H
BEGIN:VTIMEZONE
TZID:UTC
BEGIN:STANDARD
TZOFFSETFROM:+0000
TZOFFSETTO:+0000
TZNAME:UTC
DTSTART:20250101T000000
END:STANDARD
END:VTIMEZONE
BEGIN:VEVENT
DTSTART;TZID=UTC:20250823T193000
DTEND;TZID=UTC:20250823T213000
DTSTAMP:20260422T193557
CREATED:20250710T192206Z
LAST-MODIFIED:20250710T192238Z
UID:5156-1755977400-1755984600@staintons.com
SUMMARY:The SpongeBob Musical: Youth Edition – Presented by OCTC
DESCRIPTION:Dive into the world of Bikini Bottom with OCTC’s Middle School Junior Company as they present The SpongeBob Musical: Youth Edition! This high-energy\, all-singing\, all-dancing musical follows SpongeBob and his friends as they band together to save their undersea home from a volcanic eruption. It’s a hilarious\, heartfelt story about friendship\, teamwork\, and the power of optimism. \nThis family-friendly performance takes place on August 22nd and 23rd at 7:30 p.m. at the Ocean City Music Pier. Don’t miss the chance to experience this colorful and dynamic stage show\, perfect for kids and adults alike!
URL:https://staintons.com/event/the-spongebob-musical-youth-edition-presented-by-octc-2/
LOCATION:Ocean City Music Pier\, 825 Boardwalk\, Ocean City\, NJ\, 08226\, United States
END:VEVENT
END:VCALENDAR