BEGIN:VCALENDAR
VERSION:2.0
PRODID:-//Stainton&#039;s - ECPv6.11.2//NONSGML v1.0//EN
CALSCALE:GREGORIAN
METHOD:PUBLISH
X-WR-CALNAME:Stainton&#039;s
X-ORIGINAL-URL:https://staintons.com
X-WR-CALDESC:Events for Stainton&#039;s
REFRESH-INTERVAL;VALUE=DURATION:PT1H
X-Robots-Tag:noindex
X-PUBLISHED-TTL:PT1H
BEGIN:VTIMEZONE
TZID:UTC
BEGIN:STANDARD
TZOFFSETFROM:+0000
TZOFFSETTO:+0000
TZNAME:UTC
DTSTART:20250101T000000
END:STANDARD
END:VTIMEZONE
BEGIN:VEVENT
DTSTART;TZID=UTC:20250824T193000
DTEND;TZID=UTC:20250824T213000
DTSTAMP:20260422T175328
CREATED:20250710T192719Z
LAST-MODIFIED:20250710T192719Z
UID:5158-1756063800-1756071000@staintons.com
SUMMARY:Rodgers and Hammerstein with Ocean City POPS | Music Pier Concert
DESCRIPTION:Join the Ocean City POPS for A Grand Night for Singing featuring the timeless works of Rodgers and Hammerstein. Maestro Vince Lee leads the evening from the piano with powerhouse vocalists Aubry Ballaro and Angel Gomez\, a recent finalist at the Metropolitan Opera competition. \nEnjoy classic Broadway hits from beloved musicals including Oklahoma!\, South Pacific\, The King & I\, Carousel\, and more — all performed live on the historic Music Pier stage. This one-night-only performance promises unforgettable melodies\, soaring vocals\, and a celebration of some of the greatest music ever written for the stage.
URL:https://staintons.com/event/rodgers-and-hammerstein-with-ocean-city-pops-music-pier-concert/
LOCATION:Ocean City Music Pier\, 825 Boardwalk\, Ocean City\, NJ\, 08226\, United States
END:VEVENT
END:VCALENDAR