BEGIN:VCALENDAR
VERSION:2.0
PRODID:-//Stainton&#039;s - ECPv6.11.2//NONSGML v1.0//EN
CALSCALE:GREGORIAN
METHOD:PUBLISH
X-ORIGINAL-URL:https://staintons.com
X-WR-CALDESC:Events for Stainton&#039;s
REFRESH-INTERVAL;VALUE=DURATION:PT1H
X-Robots-Tag:noindex
X-PUBLISHED-TTL:PT1H
BEGIN:VTIMEZONE
TZID:UTC
BEGIN:STANDARD
TZOFFSETFROM:+0000
TZOFFSETTO:+0000
TZNAME:UTC
DTSTART:20250101T000000
END:STANDARD
END:VTIMEZONE
BEGIN:VEVENT
DTSTART;TZID=UTC:20250826T100000
DTEND;TZID=UTC:20250826T130000
DTSTAMP:20260422T181426
CREATED:20250701T192148Z
LAST-MODIFIED:20250701T192148Z
UID:4732-1756202400-1756213200@staintons.com
SUMMARY:Classic Disney Day – August 26\, 2025 | Character Tuesdays in Downtown OCNJ
DESCRIPTION:Classic Disney Day – August 26\, 2025 | Character Tuesdays in Downtown OCNJStep into the magic of Classic Disney on Tuesday\, August 26\, 2025 at Downtown Ocean City’s Character Tuesdays series. \nMeet your favorite characters Tinkerbell\, Snow White\, Mickey Mouse\, and Minnie Mouse! \n🎨 Enjoy 4 face painters and 🎈 2 balloon artists bringing even more fun to the day. \n📍 Location: Downtown Ocean City\, NJ🕙 Time: 10:00 AM – 1:00 PM🎉 Cost: Free and open to all ages \nDon’t miss this enchanting day in Downtown OCNJ!
URL:https://staintons.com/event/classic-disney-day-august-26-2025-character-tuesdays-in-downtown-ocnj/
LOCATION:Stainton’s\, 810 Asbury Ave\, Ocean City\, NJ\, 08226\, United States
END:VEVENT
BEGIN:VEVENT
DTSTART;TZID=UTC:20250826T190000
DTEND;TZID=UTC:20250826T210000
DTSTAMP:20260422T181426
CREATED:20250708T195601Z
LAST-MODIFIED:20250708T195601Z
UID:4997-1756234800-1756242000@staintons.com
SUMMARY:Mummers Night – Every Tuesday and Thursday | 7 p.m. to 9 p.m. | Boardwalk 6th to 14th Street\, Ocean City\, NJ
DESCRIPTION:Enjoy vibrant entertainment every Tuesday and Thursday night on the Ocean City Boardwalk featuring the Philadelphia Mummers Bands strutting from 7:00 PM to 9:00 PM between 6th and 14th Street. \n🕖 Time: 7:00 PM – 9:00 PM📍 Location: Boardwalk between 6th Street and 14th Street\, Ocean City\, NJ🎉 Cost: Free and open to the public
URL:https://staintons.com/event/mummers-night-every-tuesday-and-thursday-7-p-m-to-9-p-m-boardwalk-6th-to-14th-street-ocean-city-nj-14/
LOCATION:Ocean City Boardwalk\, 825 Boardwalk\, Ocean City\, NJ\, 08226\, United States
END:VEVENT
BEGIN:VEVENT
DTSTART;TZID=UTC:20250826T193000
DTEND;TZID=UTC:20250826T213000
DTSTAMP:20260422T181426
CREATED:20250710T194407Z
LAST-MODIFIED:20250710T194407Z
UID:5160-1756236600-1756243800@staintons.com
SUMMARY:Wayne Newton Live with the Ocean City POPs | Music Pier Concert
DESCRIPTION:Join the Ocean City POPs for a truly unforgettable evening as they welcome legendary entertainer Wayne Newton to the Music Pier stage. Known around the world as Mr. Las Vegas\, Wayne Newton has dazzled audiences for decades with his timeless hits and charismatic performances. \nWith a career spanning over 60 years\, Newton is celebrated for signature songs like “Danke Schoen\,” “Daddy Don’t You Walk So Fast\,” “Red Roses for a Blue Lady\,” and many more. From his role as a USO Ambassador to his iconic presence on stage\, he is a true symbol of American entertainment. \nDon’t miss this rare opportunity to see a world-renowned star perform alongside the Ocean City POPs.
URL:https://staintons.com/event/wayne-newton-live-with-the-ocean-city-pops-music-pier-concert/
LOCATION:Ocean City Music Pier\, 825 Boardwalk\, Ocean City\, NJ\, 08226\, United States
END:VEVENT
END:VCALENDAR