BEGIN:VCALENDAR
VERSION:2.0
PRODID:-//Stainton&#039;s - ECPv6.11.2//NONSGML v1.0//EN
CALSCALE:GREGORIAN
METHOD:PUBLISH
X-WR-CALNAME:Stainton&#039;s
X-ORIGINAL-URL:https://staintons.com
X-WR-CALDESC:Events for Stainton&#039;s
REFRESH-INTERVAL;VALUE=DURATION:PT1H
X-Robots-Tag:noindex
X-PUBLISHED-TTL:PT1H
BEGIN:VTIMEZONE
TZID:UTC
BEGIN:STANDARD
TZOFFSETFROM:+0000
TZOFFSETTO:+0000
TZNAME:UTC
DTSTART:20250101T000000
END:STANDARD
END:VTIMEZONE
BEGIN:VEVENT
DTSTART;TZID=UTC:20250829T080000
DTEND;TZID=UTC:20250829T090000
DTSTAMP:20260422T175349
CREATED:20250717T175026Z
LAST-MODIFIED:20250717T175026Z
UID:5307-1756454400-1756458000@staintons.com
SUMMARY:Low-Impact Beach Exercise – Free Every Friday in August
DESCRIPTION:Low-Impact Beach Exercise – Free Every Friday in August Start your Fridays with a relaxing and energizing low-impact workout by the ocean! Hosted by the Ocean City Aquatic & Fitness Center\, this free fitness class runs 8:00 a.m. to 9:00 a.m. every Friday in August at the 6th Street Beach Volleyball Courts. \nPerfect for all fitness levels—bring a towel\, dress comfortably\, and enjoy a peaceful start to your weekend with friends and fresh sea air. \n📞 For more info\, call (609) 398-6900.
URL:https://staintons.com/event/low-impact-beach-exercise-free-every-friday-in-august/
LOCATION:6th Street Volleyball Courts\, 600 boardwalk\, Ocean City\, NJ\, 08226\, United States
END:VEVENT
BEGIN:VEVENT
DTSTART;TZID=UTC:20250829T080000
DTEND;TZID=UTC:20250829T090000
DTSTAMP:20260422T175349
CREATED:20250717T183120Z
LAST-MODIFIED:20250717T183155Z
UID:5324-1756454400-1756458000@staintons.com
SUMMARY:Friday Morning Walking Club – Free Weekly Walks in Ocean City\, NJ
DESCRIPTION:Friday Morning Walking Club – Every Friday in July & AugustStart your Friday mornings on the right foot! Ocean City’s Walking Club meets every Friday in July and August for a free\, friendly group walk along the Boardwalk. Whether you’re in it for the exercise\, the ocean views\, or the community connection\, all are welcome to join. \n🕗 Time: 8:00 a.m.📍 Location: Ocean City Boardwalk (Meeting spot may vary—call ahead for details)📞 Info: Ocean City Aquatic & Fitness Center – (609) 398-6900 \nGet outside\, move your body\, and enjoy the fresh sea breeze with fellow walkers each week!
URL:https://staintons.com/event/friday-morning-walking-club-free-weekly-walks-in-ocean-city-nj-8/
LOCATION:Ocean City Music Pier\, 825 Boardwalk\, Ocean City\, NJ\, 08226\, United States
END:VEVENT
BEGIN:VEVENT
DTSTART;TZID=UTC:20250829T080000
DTEND;TZID=UTC:20250829T170000
DTSTAMP:20260422T175349
CREATED:20250717T182939Z
LAST-MODIFIED:20250717T182939Z
UID:5322-1756454400-1756486800@staintons.com
SUMMARY:Friday Morning Walking Club – Free Weekly Walks in Ocean City\, NJ
DESCRIPTION:Friday Morning Walking Club – Every Friday in July & AugustStart your Friday mornings on the right foot! Ocean City’s Walking Club meets every Friday in July and August for a free\, friendly group walk along the Boardwalk. Whether you’re in it for the exercise\, the ocean views\, or the community connection\, all are welcome to join. \n🕗 Time: 8:00 a.m.📍 Location: Ocean City Boardwalk (Meeting spot may vary—call ahead for details)📞 Info: Ocean City Aquatic & Fitness Center – (609) 398-6900 \nGet outside\, move your body\, and enjoy the fresh sea breeze with fellow walkers each week!
URL:https://staintons.com/event/friday-morning-walking-club-free-weekly-walks-in-ocean-city-nj-7/
LOCATION:Ocean City Music Pier\, 825 Boardwalk\, Ocean City\, NJ\, 08226\, United States
END:VEVENT
END:VCALENDAR