BEGIN:VCALENDAR
VERSION:2.0
PRODID:-//Stainton&#039;s - ECPv6.11.2//NONSGML v1.0//EN
CALSCALE:GREGORIAN
METHOD:PUBLISH
X-WR-CALNAME:Stainton&#039;s
X-ORIGINAL-URL:https://staintons.com
X-WR-CALDESC:Events for Stainton&#039;s
REFRESH-INTERVAL;VALUE=DURATION:PT1H
X-Robots-Tag:noindex
X-PUBLISHED-TTL:PT1H
BEGIN:VTIMEZONE
TZID:UTC
BEGIN:STANDARD
TZOFFSETFROM:+0000
TZOFFSETTO:+0000
TZNAME:UTC
DTSTART:20250101T000000
END:STANDARD
END:VTIMEZONE
BEGIN:VEVENT
DTSTART;TZID=UTC:20250901T090000
DTEND;TZID=UTC:20250901T120000
DTSTAMP:20260424T094945
CREATED:20250717T163046Z
LAST-MODIFIED:20250717T163238Z
UID:5286-1756717200-1756728000@staintons.com
SUMMARY:OCNJ Labor Day Race – September 1\, 2025
DESCRIPTION:Kick off your Labor Day the Ocean City way! The OCNJ Labor Day Race returns on Monday\, September 1\, 2025\, with two great options for runners and walkers of all levels: a 5-mile beach run and a 1-mile fun run/walk. \nStarting at 9:00 a.m.\, this long-running community tradition offers a scenic and energetic way to wrap up the summer season along Ocean City’s beautiful shoreline. \nWhether you’re racing to compete or just out for fun\, all are welcome to participate in this celebratory end-of-summer event. \nOnline registration: ocnj.recdesk.com
URL:https://staintons.com/event/ocnj-labor-day-race-september-1-2025/
LOCATION:NJ
END:VEVENT
END:VCALENDAR