BEGIN:VCALENDAR
VERSION:2.0
PRODID:-//Stainton&#039;s - ECPv6.11.2//NONSGML v1.0//EN
CALSCALE:GREGORIAN
METHOD:PUBLISH
X-ORIGINAL-URL:https://staintons.com
X-WR-CALDESC:Events for Stainton&#039;s
REFRESH-INTERVAL;VALUE=DURATION:PT1H
X-Robots-Tag:noindex
X-PUBLISHED-TTL:PT1H
BEGIN:VTIMEZONE
TZID:UTC
BEGIN:STANDARD
TZOFFSETFROM:+0000
TZOFFSETTO:+0000
TZNAME:UTC
DTSTART:20250101T000000
END:STANDARD
END:VTIMEZONE
BEGIN:VEVENT
DTSTART;TZID=UTC:20250903T080000
DTEND;TZID=UTC:20250903T120000
DTSTAMP:20260422T215857
CREATED:20250624T195955Z
LAST-MODIFIED:20250624T195955Z
UID:4621-1756886400-1756900800@staintons.com
SUMMARY:Ocean City Farmers Market – Every Wednesday
DESCRIPTION:Every Wednesday from June 4 through September 3\, the Ocean City Farmers Market takes place from 8:00 AM to 12:00 PM at the Tabernacle Grounds (550 Wesley Ave). A beloved summer tradition\, the market features an incredible variety of fresh produce\, baked goods\, flowers\, specialty foods\, handmade crafts\, and more from local and regional vendors. Whether you’re a year-round resident or just visiting for the week\, it’s a great way to experience the heart of Ocean City’s community. \nSeveral Stainton’s vendors also participate in the market\, offering a taste of what you can find inside our stores. In addition\, we host pop-up vendors outside of Stainton’s every Wednesday\, giving visitors even more to explore downtown. Inside Stainton’s\, you’ll find over 80 independently owned shops under one roof — showcasing the best of Ocean City’s local shopping scene. \n\n \n\n \nProudly supporting Ocean City’s community and small business scene all summer long.
URL:https://staintons.com/event/ocean-city-farmers-market-every-wednesday-14/
LOCATION:Tabernacle\, 550 Wesley avenue\, Ocean City\, 08226\, United States
END:VEVENT
END:VCALENDAR