BEGIN:VCALENDAR
VERSION:2.0
PRODID:-//Stainton&#039;s - ECPv6.11.2//NONSGML v1.0//EN
CALSCALE:GREGORIAN
METHOD:PUBLISH
X-ORIGINAL-URL:https://staintons.com
X-WR-CALDESC:Events for Stainton&#039;s
REFRESH-INTERVAL;VALUE=DURATION:PT1H
X-Robots-Tag:noindex
X-PUBLISHED-TTL:PT1H
BEGIN:VTIMEZONE
TZID:UTC
BEGIN:STANDARD
TZOFFSETFROM:+0000
TZOFFSETTO:+0000
TZNAME:UTC
DTSTART:20250101T000000
END:STANDARD
END:VTIMEZONE
BEGIN:VEVENT
DTSTART;TZID=UTC:20250906T120000
DTEND;TZID=UTC:20250906T170000
DTSTAMP:20260422T201152
CREATED:20250710T195811Z
LAST-MODIFIED:20250710T195854Z
UID:5164-1757160000-1757178000@staintons.com
SUMMARY:Fall Cruisin’ The Boards Car Show | 50th Anniversary Ocean City Classic Cars
DESCRIPTION:Celebrate the 50th anniversary of the Ocean City Classic Car & Street Rod Show at the Fall Cruisin’ The Boards Car Show! \nEnjoy a stunning display of classic cars from 1989 and earlier\, showcased along the boardwalk from 6th to 14th Street. This free event runs from noon to 5:00 p.m.\, perfect for car enthusiasts and families alike. \nFor more details\, visit cruisintheboards.com or email blinkerfluidproductions@gmail.com.
URL:https://staintons.com/event/fall-cruisin-the-boards-car-show-50th-anniversary-ocean-city-classic-cars/
LOCATION:Ocean City Boardwalk\, 825 Boardwalk\, Ocean City\, NJ\, 08226\, United States
END:VEVENT
END:VCALENDAR