BEGIN:VCALENDAR
VERSION:2.0
PRODID:-//Stainton&#039;s - ECPv6.11.2//NONSGML v1.0//EN
CALSCALE:GREGORIAN
METHOD:PUBLISH
X-ORIGINAL-URL:https://staintons.com
X-WR-CALDESC:Events for Stainton&#039;s
REFRESH-INTERVAL;VALUE=DURATION:PT1H
X-Robots-Tag:noindex
X-PUBLISHED-TTL:PT1H
BEGIN:VTIMEZONE
TZID:UTC
BEGIN:STANDARD
TZOFFSETFROM:+0000
TZOFFSETTO:+0000
TZNAME:UTC
DTSTART:20250101T000000
END:STANDARD
END:VTIMEZONE
BEGIN:VEVENT
DTSTART;TZID=UTC:20250911T180000
DTEND;TZID=UTC:20250911T190000
DTSTAMP:20260424T095003
CREATED:20250717T165238Z
LAST-MODIFIED:20250717T165451Z
UID:5289-1757613600-1757617200@staintons.com
SUMMARY:9/11 Remembrance Ceremony – “A Day to Remember”
DESCRIPTION:Join the Ocean City community for an evening of reflection and remembrance on September 11 at 6:00 p.m. (location to be announced). \nThis moving ceremony will include music\, prayer\, and heartfelt reflections honoring the lives lost during the September 11\, 2001 attacks on the World Trade Center and the Pentagon. The event also pays tribute to the strength and unity that followed in the days\, months\, and years after. \nAll are encouraged to attend and stand together in memory\, gratitude\, and hope.
URL:https://staintons.com/event/9-11-remembrance-ceremony-a-day-to-remember/
LOCATION:NJ
END:VEVENT
END:VCALENDAR