BEGIN:VCALENDAR
VERSION:2.0
PRODID:-//Stainton&#039;s - ECPv6.11.2//NONSGML v1.0//EN
CALSCALE:GREGORIAN
METHOD:PUBLISH
X-ORIGINAL-URL:https://staintons.com
X-WR-CALDESC:Events for Stainton&#039;s
REFRESH-INTERVAL;VALUE=DURATION:PT1H
X-Robots-Tag:noindex
X-PUBLISHED-TTL:PT1H
BEGIN:VTIMEZONE
TZID:UTC
BEGIN:STANDARD
TZOFFSETFROM:+0000
TZOFFSETTO:+0000
TZNAME:UTC
DTSTART:20250101T000000
END:STANDARD
END:VTIMEZONE
BEGIN:VEVENT
DTSTART;TZID=UTC:20250914T130000
DTEND;TZID=UTC:20250914T143000
DTSTAMP:20260422T215825
CREATED:20250708T202935Z
LAST-MODIFIED:20250708T202935Z
UID:5022-1757854800-1757860200@staintons.com
SUMMARY:Boardwalk Aerobatic Airshow – September 14\, 2025 | 1 PM | Ocean City\, NJ
DESCRIPTION:Look to the skies for the return of the Boardwalk Aerobatic Airshow in Ocean City\, NJ! Starting at 1:00 PM on Sunday\, September 14\, 2025\, spectators can enjoy an afternoon of high-flying thrills featuring some of the world’s top stunt pilots\, aerobatic champions\, and military aircraft demonstrations. \nThe show takes place over the ocean between 6th and 14th Streets\, offering fantastic viewing all along the beach and Boardwalk. \n🗓️ Date: Sunday\, September 14\, 2025🕐 Time: 1:00 PM📍 Location: Over the ocean between 6th and 14th Streets\, Ocean City\, NJ🎉 Cost: Free and open to the public
URL:https://staintons.com/event/boardwalk-aerobatic-airshow-september-14-2025-1-pm-ocean-city-nj/
LOCATION:Ocean City Boardwalk\, 825 Boardwalk\, Ocean City\, NJ\, 08226\, United States
END:VEVENT
END:VCALENDAR