BEGIN:VCALENDAR
VERSION:2.0
PRODID:-//Stainton&#039;s - ECPv6.11.2//NONSGML v1.0//EN
CALSCALE:GREGORIAN
METHOD:PUBLISH
X-ORIGINAL-URL:https://staintons.com
X-WR-CALDESC:Events for Stainton&#039;s
REFRESH-INTERVAL;VALUE=DURATION:PT1H
X-Robots-Tag:noindex
X-PUBLISHED-TTL:PT1H
BEGIN:VTIMEZONE
TZID:UTC
BEGIN:STANDARD
TZOFFSETFROM:+0000
TZOFFSETTO:+0000
TZNAME:UTC
DTSTART:20250101T000000
END:STANDARD
END:VTIMEZONE
BEGIN:VEVENT
DTSTART;TZID=UTC:20250920T120000
DTEND;TZID=UTC:20250920T170000
DTSTAMP:20260422T201147
CREATED:20250721T203759Z
LAST-MODIFIED:20250721T203821Z
UID:5355-1758369600-1758387600@staintons.com
SUMMARY:Ocean City Jeep Invasion
DESCRIPTION:On Saturday\, September 20\, 2025\, Jeeps will take over the Ocean City Boardwalk from 5th to 14th Street between 12:30 p.m. and 5:00 p.m. \nCome explore unique builds\, meet fellow Jeep enthusiasts\, and enjoy the sights along the boards. \nLearn more at NJJeepInvasion.com or email njjeepinvasion@gmail.com.
URL:https://staintons.com/event/ocean-city-jeep-invasion/
LOCATION:Ocean City Boardwalk\, 825 Boardwalk\, Ocean City\, NJ\, 08226\, United States
END:VEVENT
END:VCALENDAR