BEGIN:VCALENDAR
VERSION:2.0
PRODID:-//Stainton&#039;s - ECPv6.11.2//NONSGML v1.0//EN
CALSCALE:GREGORIAN
METHOD:PUBLISH
X-WR-CALNAME:Stainton&#039;s
X-ORIGINAL-URL:https://staintons.com
X-WR-CALDESC:Events for Stainton&#039;s
REFRESH-INTERVAL;VALUE=DURATION:PT1H
X-Robots-Tag:noindex
X-PUBLISHED-TTL:PT1H
BEGIN:VTIMEZONE
TZID:UTC
BEGIN:STANDARD
TZOFFSETFROM:+0000
TZOFFSETTO:+0000
TZNAME:UTC
DTSTART:20250101T000000
END:STANDARD
END:VTIMEZONE
BEGIN:VEVENT
DTSTART;TZID=UTC:20251011T090000
DTEND;TZID=UTC:20251011T170000
DTSTAMP:20260422T215538
CREATED:20250716T193255Z
LAST-MODIFIED:20250716T193447Z
UID:5268-1760173200-1760202000@staintons.com
SUMMARY:Ocean City NJ Fall Block Party | October 11\, 2025
DESCRIPTION:Celebrate fall in Ocean City\, NJ at the annual Fall Block Party on Saturday\, October 11\, 2025\, from 9 a.m. to 5 p.m. along Asbury Avenue between 5th and 14th Streets. \nThis all-day event features live music\, delicious food\, and festive fun for the whole family. Enjoy the sights\, sounds\, and flavors of the season in one of Ocean City’s most beloved community celebrations.
URL:https://staintons.com/event/ocean-city-nj-fall-block-party-october-11-2025/
LOCATION:6th St and Asbury Ave\, 6th St and Asbury Ave\, Ocean City\, NJ\, 08226\, United States
END:VEVENT
BEGIN:VEVENT
DTSTART;TZID=UTC:20251011T210000
DTEND;TZID=UTC:20251011T213000
DTSTAMP:20260422T215538
CREATED:20250910T185853Z
LAST-MODIFIED:20251013T162556Z
UID:5614-1760216400-1760218200@staintons.com
SUMMARY:CANCELLED Drone Show – Ocean City NJ | October 11\, 2025 Boardwalk Spectacular
DESCRIPTION:Watch as 250 drones take flight over the beach and boardwalk\, creating dazzling images in the night sky. This breathtaking show is one of Ocean City’s signature fall events and is perfect for all ages. \n📍 Best Viewing: South of 6th Street📅 Date: Friday\, October 11\, 2025⏰ Time: 9:00 PM (weather permitting)💲 Admission: Free
URL:https://staintons.com/event/drone-show-ocean-city-nj-october-11-2025-boardwalk-spectacular/
LOCATION:6th Street Beach\, 600 boardwalk\, Ocean City\, NJ\, 08226\, United States
END:VEVENT
END:VCALENDAR