BEGIN:VCALENDAR
VERSION:2.0
PRODID:-//Stainton&#039;s - ECPv6.11.2//NONSGML v1.0//EN
CALSCALE:GREGORIAN
METHOD:PUBLISH
X-WR-CALNAME:Stainton&#039;s
X-ORIGINAL-URL:https://staintons.com
X-WR-CALDESC:Events for Stainton&#039;s
REFRESH-INTERVAL;VALUE=DURATION:PT1H
X-Robots-Tag:noindex
X-PUBLISHED-TTL:PT1H
BEGIN:VTIMEZONE
TZID:UTC
BEGIN:STANDARD
TZOFFSETFROM:+0000
TZOFFSETTO:+0000
TZNAME:UTC
DTSTART:20250101T000000
END:STANDARD
END:VTIMEZONE
BEGIN:VEVENT
DTSTART;TZID=UTC:20251019T090000
DTEND;TZID=UTC:20251019T130000
DTSTAMP:20260422T215539
CREATED:20250717T160511Z
LAST-MODIFIED:20251022T203111Z
UID:5280-1760864400-1760878800@staintons.com
SUMMARY:John R. Elliott HERO Walk & 1 Mile Fun Run – October 19\, 2025
DESCRIPTION:Join the community for the John R. Elliott HERO Walk & 1 Mile Fun Run on October 19\, 2025 in Ocean City\, NJ. This annual event raises awareness about the importance of safe\, sober designated drivers and honors those lost to drunk driving. \nParticipants of all ages—including students\, families\, and community teams—are invited to walk\, run\, and show support for the HERO Campaign’s lifesaving mission. \n📍 Check-in begins at 9:00 a.m.🏃 1 Mile Fun Run starts at 10:00 a.m.🏅 Awards & Ceremony at 10:30 a.m.🚶‍♂️ HERO Walk begins at 11:00 a.m. \nCome walk for a cause and help build a future of safer roads\, one step at a time. \n \nMake the most of your visit! Browse our full Ocean City Events List and stop by Stainton’s for some of the best shopping in Ocean City\, NJ. We’re open year-round and filled with unique local finds.
URL:https://staintons.com/event/john-r-elliott-hero-walk-1-mile-fun-run-october-19-2025/
LOCATION:NJ
END:VEVENT
END:VCALENDAR