BEGIN:VCALENDAR
VERSION:2.0
PRODID:-//Stainton&#039;s - ECPv6.11.2//NONSGML v1.0//EN
CALSCALE:GREGORIAN
METHOD:PUBLISH
X-ORIGINAL-URL:https://staintons.com
X-WR-CALDESC:Events for Stainton&#039;s
REFRESH-INTERVAL;VALUE=DURATION:PT1H
X-Robots-Tag:noindex
X-PUBLISHED-TTL:PT1H
BEGIN:VTIMEZONE
TZID:UTC
BEGIN:STANDARD
TZOFFSETFROM:+0000
TZOFFSETTO:+0000
TZNAME:UTC
DTSTART:20250101T000000
END:STANDARD
END:VTIMEZONE
BEGIN:VEVENT
DTSTART;TZID=UTC:20251025T090000
DTEND;TZID=UTC:20251025T170000
DTSTAMP:20260422T215704
CREATED:20250721T201858Z
LAST-MODIFIED:20251022T202628Z
UID:5344-1761382800-1761411600@staintons.com
SUMMARY:Dog Days Weekend – October 25 & 26\, 2025
DESCRIPTION:Bring your furry friends for Boardwalk Pet Weekend in Ocean City\, NJ! Leashed dogs are welcome on the Ocean City Boardwalk from 9 a.m. to 5 p.m. on Saturday and 9 a.m. to 3 p.m. on Sunday. \nEnjoy a weekend dedicated to pets\, complete with pet-friendly vendors\, themed photo stations\, and community activities. Don’t miss the Humane Society of Ocean City’s Pet of the Year announcement on Saturday! \nWhether you’re a local or visiting for the weekend\, this is one of Ocean City’s favorite family- and pet-friendly fall events\, offering fun\, fresh air\, and plenty of adorable photo moments. \nMake the most of your visit! Browse our full Ocean City Events List and stop by Stainton’s for some of the best shopping in Ocean City\, NJ. We’re open year-round and filled with unique local finds.
URL:https://staintons.com/event/dog-days-weekend-october-25-26-2025/
LOCATION:Ocean City Boardwalk\, 825 Boardwalk\, Ocean City\, NJ\, 08226\, United States
END:VEVENT
BEGIN:VEVENT
DTSTART;TZID=UTC:20251025T150000
DTEND;TZID=UTC:20251025T170000
DTSTAMP:20260422T215704
CREATED:20250716T194346Z
LAST-MODIFIED:20251021T135523Z
UID:5274-1761404400-1761411600@staintons.com
SUMMARY:Howl-O-Ween Pet Parade in Ocean City NJ | October 25\, 2025
DESCRIPTION:Get your tails wagging because Ocean City’s Howl-O-Ween Parade is back on Saturday\, October 25\, 2025\, starting at 3 p.m. on the Ocean City Boardwalk. \nHosted by the Humane Society of Ocean City\, this adorable event invites pets (and their people!) to dress up and strut their stuff in a festive costume parade. Expect prizes\, treats\, and tail-wagging fun for all ages. Whether you’re marching or spectating\, it’s a must-see Halloween tradition at the Jersey Shore. \nParade begins at 3 p.m. \nLeashed dogs are welcome on the Boardwalk from 9 a.m. to 5 p.m. on Saturday\, October 25\, and from 9 a.m. to 3 p.m. on Sunday\, October 26. \nMake the most of your visit! Browse our full Ocean City Events List and stop by Stainton’s for some of the best shopping in Ocean City\, NJ. We’re open year-round and filled with unique local finds.
URL:https://staintons.com/event/howl-o-ween-pet-parade-in-ocean-city-nj-october-25-2025/
LOCATION:Ocean City Boardwalk\, 825 Boardwalk\, Ocean City\, NJ\, 08226\, United States
END:VEVENT
BEGIN:VEVENT
DTSTART;TZID=UTC:20251025T160000
DTEND;TZID=UTC:20251025T203000
DTSTAMP:20260422T215704
CREATED:20250710T203746Z
LAST-MODIFIED:20251022T172630Z
UID:5169-1761408000-1761424200@staintons.com
SUMMARY:Halloween Costume Skate – Ocean City Skate Park\, October 25
DESCRIPTION:🎃 Halloween Costume Skate in Ocean City\nGet ready for a spooky good time at the Halloween Costume Skate on Saturday\, October 25\, 2025\, at the Ocean City Skate Park! From 4:00 p.m. until dusk\, skateboarders of all ages can roll into the Halloween spirit with costumes\, tricks\, treats\, and prizes. \nCome dressed in your best costume for a chance to win Best Costume or Best Trick — and don’t worry\, there’s candy for everyone! It’s a fun\, family-friendly event that brings together the local skate community for some festive fall fun right in the heart of Ocean City. \n📍 Location: Ocean City Skate Park\, 5th Street & Asbury Avenue\, Ocean City\, NJ📅 Date: Saturday\, October 25\, 2025⏰ Time: 4:00 p.m. – Dusk💲 Admission: Free \nMake the most of your visit! Browse our full Ocean City Events List and stop by Stainton’s for some of the best shopping in Ocean City\, NJ. We’re open year-round and filled with unique local finds.
URL:https://staintons.com/event/halloween-costume-skate-ocean-city-skate-park-october-25/
LOCATION:Ocean City Skate Park\, 550 Asbury Ave\, Ocean City\, NJ\, 08226\, United States
END:VEVENT
END:VCALENDAR