BEGIN:VCALENDAR
VERSION:2.0
PRODID:-//Stainton&#039;s - ECPv6.11.2//NONSGML v1.0//EN
CALSCALE:GREGORIAN
METHOD:PUBLISH
X-WR-CALNAME:Stainton&#039;s
X-ORIGINAL-URL:https://staintons.com
X-WR-CALDESC:Events for Stainton&#039;s
REFRESH-INTERVAL;VALUE=DURATION:PT1H
X-Robots-Tag:noindex
X-PUBLISHED-TTL:PT1H
BEGIN:VTIMEZONE
TZID:UTC
BEGIN:STANDARD
TZOFFSETFROM:+0000
TZOFFSETTO:+0000
TZNAME:UTC
DTSTART:20250101T000000
END:STANDARD
END:VTIMEZONE
BEGIN:VEVENT
DTSTART;TZID=UTC:20251111T110000
DTEND;TZID=UTC:20251111T130000
DTSTAMP:20260423T014831
CREATED:20250721T201130Z
LAST-MODIFIED:20251028T153500Z
UID:5342-1762858800-1762866000@staintons.com
SUMMARY:Veterans Day Program
DESCRIPTION:Join us at the Ocean City Tabernacle (550 Wesley Ave) as we honor all who have served in the U.S. Armed Forces. The ceremony will include music\, prayers\, and remarks from local veterans and officials. \nThis year’s keynote speaker is E-4 Lance Corporal Rickey R. Arce\, a U.S. Marine Corps veteran of Afghanistan and a strong advocate for mental health awareness. Students from Ocean City Primary School and Ocean City High School’s American Sign Language classes will also take part. \nPresented by Ocean City’s VFW and American Legion posts. All are welcome. \nMake the most of your visit! Browse our full Ocean City Events List and stop by Stainton’s for some of the best shopping in Ocean City\, NJ. We’re open year-round and filled with unique local finds.
URL:https://staintons.com/event/veterans-day-program/
LOCATION:Tabernacle\, 550 Wesley avenue\, Ocean City\, 08226\, United States
END:VEVENT
END:VCALENDAR