BEGIN:VCALENDAR
VERSION:2.0
PRODID:-//Stainton&#039;s - ECPv6.11.2//NONSGML v1.0//EN
CALSCALE:GREGORIAN
METHOD:PUBLISH
X-WR-CALNAME:Stainton&#039;s
X-ORIGINAL-URL:https://staintons.com
X-WR-CALDESC:Events for Stainton&#039;s
REFRESH-INTERVAL;VALUE=DURATION:PT1H
X-Robots-Tag:noindex
X-PUBLISHED-TTL:PT1H
BEGIN:VTIMEZONE
TZID:UTC
BEGIN:STANDARD
TZOFFSETFROM:+0000
TZOFFSETTO:+0000
TZNAME:UTC
DTSTART:20250101T000000
END:STANDARD
END:VTIMEZONE
BEGIN:VEVENT
DTSTART;TZID=UTC:20251122T080000
DTEND;TZID=UTC:20251122T120000
DTSTAMP:20260423T014830
CREATED:20250708T201430Z
LAST-MODIFIED:20251007T204133Z
UID:5006-1763798400-1763812800@staintons.com
SUMMARY:"Earlier than the Bird" Downtown Shopping Extravaganza
DESCRIPTION:🌙 Earlier Than the Bird – Downtown Ocean City 🛍️🎄 \nWake up\, stay cozy in your pajamas\, and kick off the holiday season with one of Ocean City’s most beloved traditions. On the Saturday before Thanksgiving\, from 8:00 a.m. to 12:00 p.m.\, enjoy festive shopping\, early bird deals\, and plenty of holiday cheer.
URL:https://staintons.com/event/earlier-than-the-bird-downtown-shopping-extravaganza/
LOCATION:Downtown Asbury Avenue\, 810 Asbury Ave\, Ocean City\, NJ\, 08226\, United States
END:VEVENT
BEGIN:VEVENT
DTSTART;TZID=UTC:20251122T120000
DTEND;TZID=UTC:20251122T150000
DTSTAMP:20260423T014830
CREATED:20250708T201729Z
LAST-MODIFIED:20251028T164029Z
UID:5009-1763812800-1763823600@staintons.com
SUMMARY:Horse & Carriage Rides
DESCRIPTION:Experience the charm of the season with a horse and carriage ride through Downtown Ocean City\, NJ. Running from 12:00 p.m. to 3:00 p.m. at 6th and Asbury Avenue\, this beloved tradition offers families and visitors a chance to slow down\, enjoy the sights\, and take in the festive spirit of Ocean City’s holiday season. \nMake the most of your visit! Browse our full Ocean City Events List and stop by Stainton’s for some of the best shopping in Ocean City\, NJ. We’re open year-round and filled with unique local finds.
URL:https://staintons.com/event/horse-and-carriage-rides-ocean-city-8/
LOCATION:6th St and Asbury Ave\, 6th St and Asbury Ave\, Ocean City\, NJ\, 08226\, United States
END:VEVENT
END:VCALENDAR