BEGIN:VCALENDAR
VERSION:2.0
PRODID:-//Stainton&#039;s - ECPv6.11.2//NONSGML v1.0//EN
CALSCALE:GREGORIAN
METHOD:PUBLISH
X-ORIGINAL-URL:https://staintons.com
X-WR-CALDESC:Events for Stainton&#039;s
REFRESH-INTERVAL;VALUE=DURATION:PT1H
X-Robots-Tag:noindex
X-PUBLISHED-TTL:PT1H
BEGIN:VTIMEZONE
TZID:UTC
BEGIN:STANDARD
TZOFFSETFROM:+0000
TZOFFSETTO:+0000
TZNAME:UTC
DTSTART:20250101T000000
END:STANDARD
END:VTIMEZONE
BEGIN:VEVENT
DTSTART;TZID=UTC:20251130T090000
DTEND;TZID=UTC:20251130T110000
DTSTAMP:20260423T014949
CREATED:20250708T205403Z
LAST-MODIFIED:20250708T205403Z
UID:5065-1764493200-1764500400@staintons.com
SUMMARY:Santa in the Downtown
DESCRIPTION:Come visit Santa Claus from 9:00 a.m. to 11:00 a.m. at Soifer Park and share what you want for the holidays!
URL:https://staintons.com/event/santa-in-the-downtown-2/
LOCATION:Soifer Park\, Ocean City\, NJ\, 08226\, United States
END:VEVENT
BEGIN:VEVENT
DTSTART;TZID=UTC:20251130T120000
DTEND;TZID=UTC:20251130T150000
DTSTAMP:20260423T014949
CREATED:20250708T204612Z
LAST-MODIFIED:20251028T162935Z
UID:5046-1764504000-1764514800@staintons.com
SUMMARY:Horse & Carriage Rides
DESCRIPTION:Experience the charm of the season with a horse and carriage ride through Downtown Ocean City\, NJ. Running from 12:00 p.m. to 3:00 p.m. at 6th and Asbury Avenue\, this beloved tradition offers families and visitors a chance to slow down\, enjoy the sights\, and take in the festive spirit of Ocean City’s holiday season. \nMake the most of your visit! Browse our full Ocean City Events List and stop by Stainton’s for some of the best shopping in Ocean City\, NJ. We’re open year-round and filled with unique local finds.
URL:https://staintons.com/event/horse-and-carriage-rides-ocean-city-5/
LOCATION:6th St and Asbury Ave\, 6th St and Asbury Ave\, Ocean City\, NJ\, 08226\, United States
END:VEVENT
BEGIN:VEVENT
DTSTART;TZID=UTC:20251130T130000
DTEND;TZID=UTC:20251130T150000
DTSTAMP:20260423T014949
CREATED:20250710T143828Z
LAST-MODIFIED:20251027T171338Z
UID:5113-1764507600-1764514800@staintons.com
SUMMARY:Photos with Santa
DESCRIPTION:🎅 Meet Santa at the Music Pier 🎄 \nMake this holiday season unforgettable with a visit to the Ocean City Music Pier from 1:00 p.m. to 3:00 p.m. Meet Santa Claus in person\, share your holiday wishes\, and capture a special photo to treasure for years to come. Enjoy the festive spirit with family and friends and make some magical memories! \nMake the most of your visit! Browse our full Ocean City Events List and stop by Stainton’s for some of the best shopping in Ocean City\, NJ. We’re open year-round and filled with unique local finds.
URL:https://staintons.com/event/photos-with-santa-2/
LOCATION:Ocean City Music Pier\, 825 Boardwalk\, Ocean City\, NJ\, 08226\, United States
END:VEVENT
END:VCALENDAR