BEGIN:VCALENDAR
VERSION:2.0
PRODID:-//Stainton&#039;s - ECPv6.11.2//NONSGML v1.0//EN
CALSCALE:GREGORIAN
METHOD:PUBLISH
X-WR-CALNAME:Stainton&#039;s
X-ORIGINAL-URL:https://staintons.com
X-WR-CALDESC:Events for Stainton&#039;s
REFRESH-INTERVAL;VALUE=DURATION:PT1H
X-Robots-Tag:noindex
X-PUBLISHED-TTL:PT1H
BEGIN:VTIMEZONE
TZID:UTC
BEGIN:STANDARD
TZOFFSETFROM:+0000
TZOFFSETTO:+0000
TZNAME:UTC
DTSTART:20250101T000000
END:STANDARD
END:VTIMEZONE
BEGIN:VEVENT
DTSTART;TZID=UTC:20251206T090000
DTEND;TZID=UTC:20251206T110000
DTSTAMP:20260423T032856
CREATED:20250708T205450Z
LAST-MODIFIED:20251029T144128Z
UID:5067-1765011600-1765018800@staintons.com
SUMMARY:Santa in the Downtown
DESCRIPTION:Visit Santa Claus in Downtown Ocean City at Soifer Park from 9–11 a.m. Bring your family\, share your holiday wishes\, and snap a festive photo with Santa. Afterward\, explore Asbury Avenue and stop by Stainton’s for unique local holiday shopping. \nMake the most of your visit! Browse our full Ocean City Events List and stop by Stainton’s for some of the best shopping in Ocean City\, NJ. We’re open year-round and filled with unique local finds.
URL:https://staintons.com/event/santa-in-downtown-ocean-city/
LOCATION:Soifer Park\, Ocean City\, NJ\, 08226\, United States
END:VEVENT
BEGIN:VEVENT
DTSTART;TZID=UTC:20251206T100000
DTEND;TZID=UTC:20251206T160000
DTSTAMP:20260423T032856
CREATED:20250709T154610Z
LAST-MODIFIED:20251008T202940Z
UID:5081-1765015200-1765036800@staintons.com
SUMMARY:Holiday Train Show at the Music Pier
DESCRIPTION:Holiday Train Show at the Music Pier \nStep into the festive world of model trains at the Ocean City Music Pier from 10:00 a.m. to 4:00 p.m. Explore running train displays of all sizes and browse a variety of scale model trains available for purchase. This hands-on\, family-friendly event is perfect for train enthusiasts of all ages and anyone looking to enjoy a fun-filled holiday outing in Downtown Ocean City. \n📍 Location: Ocean City Music Pier📅 Date: 12/06/2025⏰ Time: 10:00 a.m. – 4:00 p.m.💲 Admission: Free
URL:https://staintons.com/event/train-show/
LOCATION:Ocean City Music Pier\, 825 Boardwalk\, Ocean City\, NJ\, 08226\, United States
END:VEVENT
BEGIN:VEVENT
DTSTART;TZID=UTC:20251206T120000
DTEND;TZID=UTC:20251206T150000
DTSTAMP:20260423T032856
CREATED:20250708T204704Z
LAST-MODIFIED:20251028T152358Z
UID:5048-1765022400-1765033200@staintons.com
SUMMARY:Horse & Carriage Rides
DESCRIPTION:Experience the charm of the season with a horse and carriage ride through Downtown Ocean City\, NJ. Running from 12:00 p.m. to 3:00 p.m. at 6th and Asbury Avenue\, this beloved tradition offers families and visitors a chance to slow down\, enjoy the sights\, and take in the festive spirit of Ocean City’s holiday season. \nMake the most of your visit! Browse our full Ocean City Events List and stop by Stainton’s for some of the best shopping in Ocean City\, NJ. We’re open year-round and filled with unique local finds.
URL:https://staintons.com/event/horse-and-carriage-rides-ocean-city-4/
LOCATION:6th St and Asbury Ave\, 6th St and Asbury Ave\, Ocean City\, NJ\, 08226\, United States
END:VEVENT
BEGIN:VEVENT
DTSTART;TZID=UTC:20251206T130000
DTEND;TZID=UTC:20251206T150000
DTSTAMP:20260423T032856
CREATED:20250710T144432Z
LAST-MODIFIED:20251028T154246Z
UID:5115-1765026000-1765033200@staintons.com
SUMMARY:Photos with Santa
DESCRIPTION:Make this holiday season extra special with a visit to Santa Claus at the Ocean City Music Pier. From 1:00 p.m. to 3:00 p.m.\, families can meet Santa in person\, share Christmas wishes\, and capture a festive photo to remember the day. Enjoy the cheerful holiday atmosphere\, take in the ocean views\, and make lasting memories with family and friends in Downtown Ocean City\, New Jersey. \n📍 Location: Ocean City Music Pier\, Boardwalk and Moorlyn Terrace\, Ocean City\, NJ📅 Date: 12/06/2025⏰ Time: 1:00 p.m. – 3:00 p.m.💲 Admission: Free \n  \nMake the most of your visit! Browse our full Ocean City Events List and stop by Stainton’s for some of the best shopping in Ocean City\, NJ. We’re open year-round and filled with unique local finds.
URL:https://staintons.com/event/santa-claus-ocean-city-music-pier-3/
LOCATION:Ocean City Music Pier\, 825 Boardwalk\, Ocean City\, NJ\, 08226\, United States
END:VEVENT
END:VCALENDAR