BEGIN:VCALENDAR
VERSION:2.0
PRODID:-//Stainton&#039;s - ECPv6.11.2//NONSGML v1.0//EN
CALSCALE:GREGORIAN
METHOD:PUBLISH
X-ORIGINAL-URL:https://staintons.com
X-WR-CALDESC:Events for Stainton&#039;s
REFRESH-INTERVAL;VALUE=DURATION:PT1H
X-Robots-Tag:noindex
X-PUBLISHED-TTL:PT1H
BEGIN:VTIMEZONE
TZID:UTC
BEGIN:STANDARD
TZOFFSETFROM:+0000
TZOFFSETTO:+0000
TZNAME:UTC
DTSTART:20250101T000000
END:STANDARD
END:VTIMEZONE
BEGIN:VEVENT
DTSTART;TZID=UTC:20251207T090000
DTEND;TZID=UTC:20251207T110000
DTSTAMP:20260423T033213
CREATED:20250708T205523Z
LAST-MODIFIED:20251008T181330Z
UID:5069-1765098000-1765105200@staintons.com
SUMMARY:Santa in the Downtown Ocean City
DESCRIPTION:🎅 Visit Santa at Soifer Park 🎄 \nKids can meet Santa Claus in person at Soifer Park in downtown Ocean City. Share holiday wishes\, take a memorable photo\, and enjoy a festive morning in a cheerful holiday setting. This family-friendly event is perfect for creating special holiday memories in Ocean City. \nDate: Saturday\, December 7\, 2025Time: 9:00 a.m. – 11:00 a.m.Location: Soifer Park\, Ocean City\, NJ
URL:https://staintons.com/event/santa-in-the-downtown-ocean-city-nj/
LOCATION:Soifer Park\, Ocean City\, NJ\, 08226\, United States
ATTACH;FMTTYPE=image/jpeg:https://staintons.com/wp-content/uploads/2025/07/phoca_thumb_l_large_r202_santa-boat-city-hall-500.jpg
END:VEVENT
BEGIN:VEVENT
DTSTART;TZID=UTC:20251207T100000
DTEND;TZID=UTC:20251207T160000
DTSTAMP:20260423T033213
CREATED:20250709T154652Z
LAST-MODIFIED:20251022T143254Z
UID:5083-1765101600-1765123200@staintons.com
SUMMARY:Holiday Train Show at the Music Pier
DESCRIPTION:Holiday Train Show at the Music Pier \nStep into the festive world of model trains at the Ocean City Music Pier from 10:00 a.m. to 4:00 p.m. Explore running train displays of all sizes and browse a variety of scale model trains available for purchase. This hands-on\, family-friendly event is perfect for train enthusiasts of all ages and anyone looking to enjoy a fun-filled holiday outing in Downtown Ocean City. \n📍 Location: Ocean City Music Pier📅 Date: 12/07/2025⏰ Time: 10:00 a.m. – 4:00 p.m.💲 Admission: Free \nMake the most of your visit! Browse our full Ocean City Events List and stop by Stainton’s for some of the best shopping in Ocean City\, NJ. We’re open year-round and filled with unique local finds.
URL:https://staintons.com/event/train-show-2/
LOCATION:Ocean City Music Pier\, 825 Boardwalk\, Ocean City\, NJ\, 08226\, United States
END:VEVENT
BEGIN:VEVENT
DTSTART;TZID=UTC:20251207T120000
DTEND;TZID=UTC:20251207T150000
DTSTAMP:20260423T033213
CREATED:20250708T204737Z
LAST-MODIFIED:20251028T141543Z
UID:5052-1765108800-1765119600@staintons.com
SUMMARY:Horse and Carriage Rides in Downtown Ocean City NJ | Holiday Fun
DESCRIPTION:Take a festive horse and carriage ride through Downtown Ocean City! Hop on between 12:00 p.m. and 3:00 p.m. at 6th & Asbury Avenue and enjoy a cozy trip filled with holiday charm. It’s the perfect way to take in the sights\, support local shops\, and add a little magic to your day in Ocean City\, NJ. \n\nMake the most of your visit! Browse our full Ocean City Events List and stop by Stainton’s for some of the best shopping in Ocean City\, NJ. We’re open year-round and filled with unique local finds.
URL:https://staintons.com/event/horse-carriage-rides-6/
LOCATION:6th St and Asbury Ave\, 6th St and Asbury Ave\, Ocean City\, NJ\, 08226\, United States
END:VEVENT
BEGIN:VEVENT
DTSTART;TZID=UTC:20251207T130000
DTEND;TZID=UTC:20251207T150000
DTSTAMP:20260423T033213
CREATED:20250710T144515Z
LAST-MODIFIED:20251021T204403Z
UID:5117-1765112400-1765119600@staintons.com
SUMMARY:Photos with Santa
DESCRIPTION:Make this holiday season extra special with a visit to Santa Claus at the Ocean City Music Pier. From 1:00 p.m. to 3:00 p.m.\, families can meet Santa in person\, share Christmas wishes\, and capture a festive photo to remember the day. Enjoy the cheerful holiday atmosphere\, take in the ocean views\, and make lasting memories with family and friends in Downtown Ocean City\, New Jersey. \n📍 Location: Ocean City Music Pier📅 Date: 12/07/2025⏰ Time: 1:00 p.m. – 3:00 p.m.💲 Admission: Free \nMake the most of your visit! Browse our full Ocean City Events List and stop by Stainton’s for some of the best shopping in Ocean City\, NJ. We’re open year-round and filled with unique local finds.
URL:https://staintons.com/event/santa-claus-ocean-city-music-pier-2/
LOCATION:Ocean City Music Pier\, 825 Boardwalk\, Ocean City\, NJ\, 08226\, United States
END:VEVENT
END:VCALENDAR