BEGIN:VCALENDAR
VERSION:2.0
PRODID:-//Stainton&#039;s - ECPv6.11.2//NONSGML v1.0//EN
CALSCALE:GREGORIAN
METHOD:PUBLISH
X-WR-CALNAME:Stainton&#039;s
X-ORIGINAL-URL:https://staintons.com
X-WR-CALDESC:Events for Stainton&#039;s
REFRESH-INTERVAL;VALUE=DURATION:PT1H
X-Robots-Tag:noindex
X-PUBLISHED-TTL:PT1H
BEGIN:VTIMEZONE
TZID:UTC
BEGIN:STANDARD
TZOFFSETFROM:+0000
TZOFFSETTO:+0000
TZNAME:UTC
DTSTART:20250101T000000
END:STANDARD
END:VTIMEZONE
BEGIN:VEVENT
DTSTART;TZID=UTC:20251221T090000
DTEND;TZID=UTC:20251221T110000
DTSTAMP:20260423T032819
CREATED:20250708T205750Z
LAST-MODIFIED:20251029T143740Z
UID:5077-1766307600-1766314800@staintons.com
SUMMARY:Santa in the Downtown
DESCRIPTION:Stop by Soifer Park between 9:00 a.m. and 11:00 a.m. to visit Santa Claus and share your holiday wishes. Don’t forget your camera for a festive photo! \nMake the most of your visit! Browse our full Ocean City Events List and stop by Stainton’s for some of the best shopping in Ocean City\, NJ. We’re open year-round and filled with unique local finds.
URL:https://staintons.com/event/santa-in-the-downtown-8/
LOCATION:Soifer Park\, Ocean City\, NJ\, 08226\, United States
END:VEVENT
BEGIN:VEVENT
DTSTART;TZID=UTC:20251221T120000
DTEND;TZID=UTC:20251221T150000
DTSTAMP:20260423T032819
CREATED:20250708T205017Z
LAST-MODIFIED:20251028T135249Z
UID:5060-1766318400-1766329200@staintons.com
SUMMARY:Horse & Carriage Rides | Ocean City NJ
DESCRIPTION:Enjoy a charming horse and carriage ride through Downtown Ocean City. Climb aboard between 12:00 p.m. and 3:00 p.m. at 6th and Asbury Avenue and take in the sights\, sounds\, and sparkle of the season. It’s a cozy and festive way to spend an afternoon in the heart of town. \n\nMake the most of your visit! Browse our full Ocean City Events List and stop by Stainton’s for some of the best shopping in Ocean City\, NJ. We’re open year-round and filled with unique local finds.
URL:https://staintons.com/event/horse-and-carriage-rides-ocean-city-2/
LOCATION:6th St and Asbury Ave\, 6th St and Asbury Ave\, Ocean City\, NJ\, 08226\, United States
END:VEVENT
BEGIN:VEVENT
DTSTART;TZID=UTC:20251221T130000
DTEND;TZID=UTC:20251221T150000
DTSTAMP:20260423T032819
CREATED:20250710T145115Z
LAST-MODIFIED:20251029T142443Z
UID:5125-1766322000-1766329200@staintons.com
SUMMARY:Meet Santa at the Ocean City Music Pier
DESCRIPTION:Meet Santa Claus at the Music Pier\nMake your holiday season extra special with a visit to Santa Claus at the Ocean City Music Pier. From 1:00 p.m. to 3:00 p.m.\, families can meet Santa in person\, share Christmas wishes\, and take a festive photo to remember the day. This heartwarming holiday tradition is perfect for kids and families looking to enjoy the magic of the season in Downtown Ocean City. \n📍 Location: Ocean City Music Pier📅 Date: 12/21/2025⏰ Time: 1:00 p.m. – 3:00 p.m.💲 Admission: Free \nMake the most of your visit! Browse our full Ocean City Events List and stop by Stainton’s for some of the best shopping in Ocean City\, NJ. We’re open year-round and filled with unique local finds.
URL:https://staintons.com/event/meet-santa-ocean-city-music-pier/
LOCATION:Ocean City Music Pier\, 825 Boardwalk\, Ocean City\, NJ\, 08226\, United States
END:VEVENT
END:VCALENDAR