BEGIN:VCALENDAR
VERSION:2.0
PRODID:-//Stainton&#039;s - ECPv6.11.2//NONSGML v1.0//EN
CALSCALE:GREGORIAN
METHOD:PUBLISH
X-WR-CALNAME:Stainton&#039;s
X-ORIGINAL-URL:https://staintons.com
X-WR-CALDESC:Events for Stainton&#039;s
REFRESH-INTERVAL;VALUE=DURATION:PT1H
X-Robots-Tag:noindex
X-PUBLISHED-TTL:PT1H
BEGIN:VTIMEZONE
TZID:UTC
BEGIN:STANDARD
TZOFFSETFROM:+0000
TZOFFSETTO:+0000
TZNAME:UTC
DTSTART:20250101T000000
END:STANDARD
END:VTIMEZONE
BEGIN:VEVENT
DTSTART;TZID=UTC:20251231T220000
DTEND;TZID=UTC:20251231T220000
DTSTAMP:20260423T052853
CREATED:20250717T195359Z
LAST-MODIFIED:20251021T175313Z
UID:5330-1767218400-1767218400@staintons.com
SUMMARY:First Night Ocean City – New Year’s Eve Celebration
DESCRIPTION:Ocean City’s beloved family-friendly New Year’s Eve tradition returns for its 32nd year! \nFirst Night features more than 70 live entertainment programs across 20 venues throughout town\, including music\, magic\, comedy\, and kids’ shows. The celebration all leads up to a spectacular fireworks display at midnight\, marking the perfect start to a brand new year. \nThe fun continues on New Year’s Day with the First Day 5K Boardwalk Run and the First Plunge into the Atlantic Ocean. \n🎟️ Admission ButtonsButtons serve as your all-access pass to every First Night event.Tickets are $20 per person if purchased by November 30 and $25 starting December 1.Children under 2 are free. Price includes service fees. Quantities are limited\, and buttons may sell out. \nYou can purchase buttons: \n\n\nOnline at FirstNightOCNJ.com \n\n\nBy phone at (609) 399-6111 \n\n\nIn person at:• City Hall Welcome Center (861 Asbury Ave)• Roy Gillian Welcome Center (9th Street Causeway)• 46th Street Welcome Center (4500 West Ave) \n\n\nMail orders begin the week of November 25\, and will-call pickup starts the weekend of November 23 at City Hall. \nJoin more than 10\,000 people who make First Night Ocean City a yearly tradition — a safe\, spirited\, and unforgettable way to welcome the New Year at the Jersey Shore. \nMake the most of your visit! Browse our full <a title=”Ocean City Events List” href=”https://staintons.com/events/”>Ocean City Events List</a> and stop by <a title=”Stainton’s Family of Stores” href=”https://staintons.com/”>Stainton’s</a> for some of the best <strong>shopping in Ocean City\, NJ</strong>. We’re open year-round and filled with unique local finds.
URL:https://staintons.com/event/first-night-ocean-city-2025-2026/
LOCATION:NJ
END:VEVENT
END:VCALENDAR