BEGIN:VCALENDAR
VERSION:2.0
PRODID:-//Stainton&#039;s - ECPv6.11.2//NONSGML v1.0//EN
CALSCALE:GREGORIAN
METHOD:PUBLISH
X-WR-CALNAME:Stainton&#039;s
X-ORIGINAL-URL:https://staintons.com
X-WR-CALDESC:Events for Stainton&#039;s
REFRESH-INTERVAL;VALUE=DURATION:PT1H
X-Robots-Tag:noindex
X-PUBLISHED-TTL:PT1H
BEGIN:VTIMEZONE
TZID:UTC
BEGIN:STANDARD
TZOFFSETFROM:+0000
TZOFFSETTO:+0000
TZNAME:UTC
DTSTART:20260101T000000
END:STANDARD
END:VTIMEZONE
BEGIN:VEVENT
DTSTART;VALUE=DATE:20260101
DTEND;VALUE=DATE:20260102
DTSTAMP:20260423T032703
CREATED:20250708T203701Z
LAST-MODIFIED:20251021T174134Z
UID:5034-1767225600-1767311999@staintons.com
SUMMARY:First Day Shopping Extravaganza
DESCRIPTION:January 1 @ 9:00 am – 5:00 pmRing in the New Year with a festive shopping spree in Downtown Ocean City. Stroll along Asbury Avenue and discover charming shops\, seasonal sales\, and local favorites. Don’t forget to stop by Stainton’s for exciting in-store specials and a curated collection of unique gifts from over 180 small businesses. Start your year surrounded by community\, creativity\, and a little bit of Ocean City magic. \n📍 Location: Downtown Ocean City\, Asbury Avenue📅 Date: Wednesday\, January 1\, 2026⏰ Time: 9:00 AM – 5:00 PM💲 Admission: Free \nMake the most of your visit! Browse our full Ocean City Events List and stop by Stainton’s for some of the best shopping in Ocean City\, NJ. We’re open year-round and filled with unique local finds.
URL:https://staintons.com/event/new-years-day-shopping-ocean-city/
LOCATION:Downtown Asbury Avenue\, 810 Asbury Ave\, Ocean City\, NJ\, 08226\, United States
END:VEVENT
BEGIN:VEVENT
DTSTART;TZID=UTC:20260101T113000
DTEND;TZID=UTC:20260101T150000
DTSTAMP:20260423T032703
CREATED:20250708T203917Z
LAST-MODIFIED:20251021T142807Z
UID:5036-1767267000-1767279600@staintons.com
SUMMARY:First Day 5k Boardwalk Run
DESCRIPTION:January 1 @ 1:00 pm – 2:00 pmStart the year on the right foot with Ocean City’s annual First Day 5K Boardwalk Run. Runners and walkers of all ages are invited to join this fun and energizing New Year’s tradition along the beautiful Ocean City Boardwalk. Pre-register at ocnj.us/race-events or sign up on race day at the Music Pier between 11:00 a.m. and 12:30 p.m. \n📍 Location: Ocean City Boardwalk\, starting at the Music Pier📅 Date: Wednesday\, January 1\, 2026⏰ Time: Race begins at 1:00 PM💲 Admission: See registration details online \nMake the most of your visit! Browse our full Ocean City Events List and stop by Stainton’s for some of the best shopping in Ocean City\, NJ. We’re open year-round and filled with unique local finds.
URL:https://staintons.com/event/first-day-5k-boardwalk-run/
LOCATION:Ocean City Music Pier\, 825 Boardwalk\, Ocean City\, NJ\, 08226\, United States
ATTACH;FMTTYPE=image/webp:https://staintons.com/wp-content/uploads/2025/07/IMG_2865.webp
END:VEVENT
BEGIN:VEVENT
DTSTART;TZID=UTC:20260101T140000
DTEND;TZID=UTC:20260101T150000
DTSTAMP:20260423T032703
CREATED:20250708T204245Z
LAST-MODIFIED:20251208T174125Z
UID:5038-1767276000-1767279600@staintons.com
SUMMARY:First Day at The Beach
DESCRIPTION:January 1 @ 2:00 pm – 3:00 pmStart the New Year with a splash at Ocean City’s annual First Day Plunge. Brave the chilly Atlantic and join hundreds of locals and visitors for one of the city’s most spirited traditions. Whether you dive in or cheer from the beach\, it’s a fun and festive way to kick off 2026 by the sea. \n📍 Location: In front of the Music Pier📅 Date: Wednesday\, January 1\, 2026⏰ Time: 2:00 PM💲 Admission: Free \nMake the most of your visit! Browse our full Ocean City Events List and stop by Stainton’s for some of the best shopping in Ocean City\, NJ. We’re open year-round and filled with unique local finds.
URL:https://staintons.com/event/first-day-at-the-beach/
LOCATION:Ocean City Music Pier\, 825 Boardwalk\, Ocean City\, NJ\, 08226\, United States
ATTACH;FMTTYPE=image/webp:https://staintons.com/wp-content/uploads/2025/07/IMG_2881.webp
END:VEVENT
END:VCALENDAR