BEGIN:VCALENDAR
VERSION:2.0
PRODID:-//Stainton&#039;s - ECPv6.11.2//NONSGML v1.0//EN
CALSCALE:GREGORIAN
METHOD:PUBLISH
X-WR-CALNAME:Stainton&#039;s
X-ORIGINAL-URL:https://staintons.com
X-WR-CALDESC:Events for Stainton&#039;s
REFRESH-INTERVAL;VALUE=DURATION:PT1H
X-Robots-Tag:noindex
X-PUBLISHED-TTL:PT1H
BEGIN:VTIMEZONE
TZID:UTC
BEGIN:STANDARD
TZOFFSETFROM:+0000
TZOFFSETTO:+0000
TZNAME:UTC
DTSTART:20260101T000000
END:STANDARD
END:VTIMEZONE
BEGIN:VEVENT
DTSTART;TZID=UTC:20260610T080000
DTEND;TZID=UTC:20260610T120000
DTSTAMP:20260421T102625
CREATED:20251216T184023Z
LAST-MODIFIED:20251216T184052Z
UID:5917-1781078400-1781092800@staintons.com
SUMMARY:Farmers Market | Ocean City Events | Stainton’s
DESCRIPTION:Farmers Market – Ocean City\, NJ \nThe Ocean City Farmers Market is a weekly summer favorite\, bringing together local farmers\, food vendors\, artisans\, and crafters for a lively morning in the heart of downtown. Held on June 10\, 2026 from 8:00 a.m. to 12:00 p.m. at the Ocean City Tabernacle Grounds at 6th Street and Asbury Avenue\, the market features fresh produce\, baked goods\, handmade items\, and a variety of local favorites. Additional crafters line the street at 6th and Asbury\, creating a fun\, walkable shopping experience. \nJust a few blocks away\, Stainton’s adds to the Wednesday morning buzz with rotating outdoor vendor pop-ups\, giving visitors even more local makers to explore while they’re downtown. It’s an easy way to make a full morning out of shopping\, strolling\, and enjoying Ocean City’s community atmosphere. \nEvent DetailsDate: June 10\, 2026Time: 8:00 a.m. – 12:00 p.m.Location: Ocean City Tabernacle Grounds\, 6th & Asbury AvenueEvent Category: Farmers Market / Chamber Event \nMake the most of your visit! Browse our full Ocean City Events List and stop by Stainton’s for some of the best shopping in Ocean City\, NJ. We’re open year-round and filled with unique local finds.
URL:https://staintons.com/event/ocean-city-farmers-market-2026-2/
LOCATION:Tabernacle\, 550 Wesley avenue\, Ocean City\, 08226\, United States
END:VEVENT
END:VCALENDAR