BEGIN:VCALENDAR
VERSION:2.0
PRODID:-//Stainton&#039;s - ECPv6.11.2//NONSGML v1.0//EN
CALSCALE:GREGORIAN
METHOD:PUBLISH
X-ORIGINAL-URL:https://staintons.com
X-WR-CALDESC:Events for Stainton&#039;s
REFRESH-INTERVAL;VALUE=DURATION:PT1H
X-Robots-Tag:noindex
X-PUBLISHED-TTL:PT1H
BEGIN:VTIMEZONE
TZID:UTC
BEGIN:STANDARD
TZOFFSETFROM:+0000
TZOFFSETTO:+0000
TZNAME:UTC
DTSTART:20260101T000000
END:STANDARD
END:VTIMEZONE
BEGIN:VEVENT
DTSTART;TZID=UTC:20260613T083000
DTEND;TZID=UTC:20260613T170000
DTSTAMP:20260423T102910
CREATED:20260112T170159Z
LAST-MODIFIED:20260112T170159Z
UID:6003-1781339400-1781370000@staintons.com
SUMMARY:OCNJ Emergency Responder 5K | Ocean City Events | Stainton’s
DESCRIPTION:OCNJ Emergency Responder 5K – Ocean City\, NJ \nThe OCNJ Emergency Responder 5K is a community-focused race held in Ocean City to support local recreation programs while honoring emergency responders. The event includes a 5K race\, a one-mile option\, and kids’ races\, making it a great morning for runners of all ages and abilities. \nThe race begins on the Ocean City Boardwalk and finishes at the Ocean City High School track. Kids’ events take place on the field and include short dashes and an obstacle course. An awards ceremony will be held at the race site once all participants have completed the course. \nProceeds from the event benefit Ocean City Recreation scholarships and programs. With race-day activity centered near the Civic Center and Boardwalk\, participants and spectators can easily continue their morning downtown\, including a visit to Stainton’s and other local shops along Asbury Avenue. \nEvent Details\nDate: June 13\, 2026Race Start: 8:30 a.m.Kids Events Begin: 9:00 a.m. \nLocation: Ocean City Boardwalk & Ocean City High School Track \nAdditional Information\n\n\nRegistration opens February 1\, 2026 \n\n\nOnline registration available through Ocean City Recreation \n\n\nRace-day registration available at the Civic Center \n\n\nAdvance packet pickup available June 13 at the Civic Center \n\n\nAll entry fees are non-refundable and non-transferable \n\n\nContact: Ocean City RecreationEmail: recreation@ocnj.usPhone: 609-398-6900 \nMake the most of your visit! Browse our full Ocean City Events List and stop by Stainton’s for some of the best shopping in Ocean City\, NJ. We’re open year-round and filled with unique local finds.
URL:https://staintons.com/event/ocnj-emergency-responder-5k-ocean-city-events-staintons/
LOCATION:Ocean City Sports & Civic Center\, 500 Boardwalk\, Ocean City\, NJ\, 08226\, United States
END:VEVENT
END:VCALENDAR