BEGIN:VCALENDAR
VERSION:2.0
PRODID:-//Stainton&#039;s - ECPv6.11.2//NONSGML v1.0//EN
CALSCALE:GREGORIAN
METHOD:PUBLISH
X-WR-CALNAME:Stainton&#039;s
X-ORIGINAL-URL:https://staintons.com
X-WR-CALDESC:Events for Stainton&#039;s
REFRESH-INTERVAL;VALUE=DURATION:PT1H
X-Robots-Tag:noindex
X-PUBLISHED-TTL:PT1H
BEGIN:VTIMEZONE
TZID:UTC
BEGIN:STANDARD
TZOFFSETFROM:+0000
TZOFFSETTO:+0000
TZNAME:UTC
DTSTART:20260101T000000
END:STANDARD
END:VTIMEZONE
BEGIN:VEVENT
DTSTART;TZID=UTC:20260814T080000
DTEND;TZID=UTC:20260814T100000
DTSTAMP:20260423T120046
CREATED:20260319T194621Z
LAST-MODIFIED:20260319T194621Z
UID:6375-1786694400-1786701600@staintons.com
SUMMARY:Walking Club | Ocean City Events | Stainton’s
DESCRIPTION:Walking Club – Ocean City\, NJ \nStart your day with a refreshing walk along the Ocean City Boardwalk. The Walking Club welcomes people of all ages and fitness levels to join in for a casual group walk in a beautiful seaside setting. \nParticipants meet outside the Ocean City Music Pier before heading out to walk the length of the Boardwalk. It’s a great way to stay active\, enjoy the ocean air\, and connect with others in the community. \nThis event is weather permitting. \nMake the most of your visit! Browse our full Ocean City Events List and stop by Stainton’s for some of the best shopping in Ocean City\, NJ. We’re open year-round and filled with unique local finds.
URL:https://staintons.com/event/walking-club-ocean-city-events-staintons-7/
LOCATION:Ocean City Music Pier\, 825 Boardwalk\, Ocean City\, NJ\, 08226\, United States
END:VEVENT
END:VCALENDAR