BEGIN:VCALENDAR
VERSION:2.0
PRODID:-//Stainton&#039;s - ECPv6.11.2//NONSGML v1.0//EN
CALSCALE:GREGORIAN
METHOD:PUBLISH
X-WR-CALNAME:Stainton&#039;s
X-ORIGINAL-URL:https://staintons.com
X-WR-CALDESC:Events for Stainton&#039;s
REFRESH-INTERVAL;VALUE=DURATION:PT1H
X-Robots-Tag:noindex
X-PUBLISHED-TTL:PT1H
BEGIN:VTIMEZONE
TZID:UTC
BEGIN:STANDARD
TZOFFSETFROM:+0000
TZOFFSETTO:+0000
TZNAME:UTC
DTSTART:20240101T000000
END:STANDARD
END:VTIMEZONE
BEGIN:VEVENT
DTSTART;TZID=UTC:20241005T100000
DTEND;TZID=UTC:20241013T180000
DTSTAMP:20260421T215020
CREATED:20241003T190444Z
LAST-MODIFIED:20241003T190444Z
UID:2916-1728122400-1728842400@staintons.com
SUMMARY:Discount Days | Ocean City New Jersey Events
DESCRIPTION:Get ready to experience the excitement of Discount Days in beautiful Ocean City\, New Jersey! Mark your calendars for October 5th\, 6th\, and 13th. It is the perfect opportunity to shop early and save big before and after the much-anticipated Fall Block Party. \nExplore the vibrant shops along the iconic Ocean City Boardwalk and Asbury Avenue. During Discount Days\, you’ll discover exclusive deals and discounts at your favorite stores. Selected vendors from Stainton’s will be participating in outdoor table sales along the Boardwalk and Asbury Avenue\, creating a festive atmosphere for shoppers. \nStep inside the bustling hubs of Stainton’s on Asbury\, Stainton’s by the Sea\, and the Shoppes at the Asbury\, where locals and visitors alike come together to find unique treasures and timeless finds created by talented local artists. From handcrafted jewelry to artisanal home decor\, you’ll have the chance to uncover one-of-a-kind gifts that reflect the charm of Ocean City. This is the ideal time to jumpstart your holiday shopping; with festive finds and distinctive gifts just waiting to be discovered\, you’re sure to find something for everyone on your list. \nThe lively atmosphere of Ocean City during this event is unmatched. As you shop\, take a moment to enjoy the coastal view. Whether you’re in search of trendy beachwear\, unique gifts\, or local specialties\, there’s something for everyone in our stunning seaside destination. \nDiscount Days is not just about shopping; it’s about supporting local businesses and fostering a sense of community. When you shop local\, you’re contributing to the heart of Ocean City and helping to keep its unique charm alive. Enjoy the thrill of finding great deals while feeling good about supporting your community. \nEvent Details: \n\nWhat: Discount Days\nWhere: Ocean City Boardwalk & Downtown on Asbury Avenue\nWhen: October 5th\, 6th\, and 13th\n\nDon’t miss out on this fantastic opportunity to shop\, save\, and celebrate in Ocean City! We can’t wait to see you there\, ready to make the most of this vibrant shopping event. Get your friends and family together and prepare for an unforgettable experience filled with amazing bargains and local treasures!
URL:https://staintons.com/event/discount-days-ocean-city-new-jersey-events/
LOCATION:Boardwalk and Downtown Asbury Ave\, Ocean City\, NJ\, 08226\, United States
END:VEVENT
BEGIN:VEVENT
DTSTART;TZID=UTC:20240504T090000
DTEND;TZID=UTC:20240504T170000
DTSTAMP:20260421T215020
CREATED:20240419T173907Z
LAST-MODIFIED:20240430T144909Z
UID:2448-1714813200-1714842000@staintons.com
SUMMARY:Spring Block Party!
DESCRIPTION:The annual Spring Block Party is back Saturday\, May 4!  Enjoy over 400 crafters\, food vendors\, music\, and more along Asbury Avenue from 5th St to 14th St!
URL:https://staintons.com/event/spring-block-party/
LOCATION:Downtown Asbury Avenue\, 810 Asbury Ave\, Ocean City\, NJ\, 08226\, United States
END:VEVENT
BEGIN:VEVENT
DTSTART;VALUE=DATE:20240504
DTEND;VALUE=DATE:20240506
DTSTAMP:20260421T215020
CREATED:20240419T172549Z
LAST-MODIFIED:20240430T150331Z
UID:2445-1714780800-1714953599@staintons.com
SUMMARY:Boardwalk and Downtown Merchant Table Sales
DESCRIPTION:Stop by and visit some of your favorite vendors from Stainton’s and Shoppes at The Asbury at Ocean City’s semiannual Boardwalk and Downtown Merchant Table Sales! Shop the ‘sidewalk sales’ and specials along Asbury Avenue  (6th – 14th St) and the Boardwalk (6th – 14th St) during the Spring Block Party on Saturday\, May 4\, and Sunday\, May 5!
URL:https://staintons.com/event/boardwalk-and-downtown-merchants-table-sales/
LOCATION:Boardwalk and Downtown Asbury Ave\, Ocean City\, NJ\, 08226\, United States
END:VEVENT
BEGIN:VEVENT
DTSTART;VALUE=DATE:20240427
DTEND;VALUE=DATE:20240429
DTSTAMP:20260421T215020
CREATED:20240419T172231Z
LAST-MODIFIED:20240419T172231Z
UID:2372-1714176000-1714348799@staintons.com
SUMMARY:Boardwalk and Downtown Merchant Table Sales
DESCRIPTION:Stop by and visit some of your favorite vendors from Stainton’s and Shoppes at The Asbury at Ocean City’s semiannual Boardwalk and Downtown Merchant Table Sales! Shop the ‘sidewalk sales’ and specials along Asbury Avenue  (6th – 14th St) and the Boardwalk (6th – 14th St) on Saturday and Sunday\, April 27th and 28th!
URL:https://staintons.com/event/boardwalk-and-downtown-merchant-table-sales/
LOCATION:Boardwalk and Downtown Asbury Ave\, Ocean City\, NJ\, 08226\, United States
END:VEVENT
BEGIN:VEVENT
DTSTART;TZID=UTC:20240406T180000
DTEND;TZID=UTC:20240406T200000
DTSTAMP:20260421T215020
CREATED:20240402T143932Z
LAST-MODIFIED:20240404T152836Z
UID:2255-1712426400-1712433600@staintons.com
SUMMARY:Girls Weekend
DESCRIPTION:April 6\, 6-8pm – Exclusive *Invitation Only* Shopping Event – Shoppes at The Asbury\n\nMeet our vendors and artists\, and take advantage of our personal shoppers\, just for Girls Weekend!\nSpace is limited\, so RSVP now by calling 609-545-8688\, or CLICK HERE TO RSVP
URL:https://staintons.com/event/girls-weekend/
LOCATION:Shoppes at the Asbury\, 801 Asbury Ave\, Ocean City\, New Jersey\, 08226\, United States
ATTACH;FMTTYPE=image/png:https://staintons.com/wp-content/uploads/2024/04/GWE-graphic.png
END:VEVENT
END:VCALENDAR