BEGIN:VCALENDAR
VERSION:2.0
PRODID:-//Stainton&#039;s - ECPv6.11.2//NONSGML v1.0//EN
CALSCALE:GREGORIAN
METHOD:PUBLISH
X-WR-CALNAME:Stainton&#039;s
X-ORIGINAL-URL:https://staintons.com
X-WR-CALDESC:Events for Stainton&#039;s
REFRESH-INTERVAL;VALUE=DURATION:PT1H
X-Robots-Tag:noindex
X-PUBLISHED-TTL:PT1H
BEGIN:VTIMEZONE
TZID:UTC
BEGIN:STANDARD
TZOFFSETFROM:+0000
TZOFFSETTO:+0000
TZNAME:UTC
DTSTART:20250101T000000
END:STANDARD
END:VTIMEZONE
BEGIN:VEVENT
DTSTART;TZID=UTC:20250604T080000
DTEND;TZID=UTC:20250604T120000
DTSTAMP:20260422T121021
CREATED:20250624T190146Z
LAST-MODIFIED:20250624T191252Z
UID:4587-1749024000-1749038400@staintons.com
SUMMARY:Ocean City Farmers Market – Every Wednesday
DESCRIPTION:Every Wednesday from June 4 through September 3\, the Ocean City Farmers Market takes place from 8:00 AM to 12:00 PM at the Tabernacle Grounds (550 Wesley Ave). A beloved summer tradition\, the market features an incredible variety of fresh produce\, baked goods\, flowers\, specialty foods\, handmade crafts\, and more from local and regional vendors. Whether you’re a year-round resident or just visiting for the week\, it’s a great way to experience the heart of Ocean City’s community. \nSeveral Stainton’s vendors also participate in the market\, offering a taste of what you can find inside our stores. In addition\, we host pop-up vendors outside of Stainton’s every Wednesday\, giving visitors even more to explore downtown. Inside Stainton’s\, you’ll find over 80 independently owned shops under one roof — showcasing the best of Ocean City’s local shopping scene. \n \nProudly supporting Ocean City’s community and small business scene all summer long.
URL:https://staintons.com/event/ocean-city-farmers-market-every-wednesday/
LOCATION:Tabernacle\, 550 Wesley avenue\, Ocean City\, 08226\, United States
END:VEVENT
BEGIN:VEVENT
DTSTART;TZID=UTC:20250611T080000
DTEND;TZID=UTC:20250611T120000
DTSTAMP:20260422T121021
CREATED:20250624T191608Z
LAST-MODIFIED:20250624T200035Z
UID:4595-1749628800-1749643200@staintons.com
SUMMARY:Ocean City Farmers Market – Every Wednesday
DESCRIPTION:Every Wednesday from June 4 through September 3\, the Ocean City Farmers Market takes place from 8:00 AM to 12:00 PM at the Tabernacle Grounds (550 Wesley Ave). A beloved summer tradition\, the market features an incredible variety of fresh produce\, baked goods\, flowers\, specialty foods\, handmade crafts\, and more from local and regional vendors. Whether you’re a year-round resident or just visiting for the week\, it’s a great way to experience the heart of Ocean City’s community. \nSeveral Stainton’s vendors also participate in the market\, offering a taste of what you can find inside our stores. In addition\, we host pop-up vendors outside of Stainton’s every Wednesday\, giving visitors even more to explore downtown. Inside Stainton’s\, you’ll find over 80 independently owned shops under one roof — showcasing the best of Ocean City’s local shopping scene. \n \nProudly supporting Ocean City’s community and small business scene all summer long.
URL:https://staintons.com/event/ocean-city-farmers-market-every-wednesday-2/
LOCATION:Tabernacle\, 550 Wesley avenue\, Ocean City\, 08226\, United States
END:VEVENT
BEGIN:VEVENT
DTSTART;TZID=UTC:20250618T080000
DTEND;TZID=UTC:20250618T120000
DTSTAMP:20260422T121021
CREATED:20250624T192520Z
LAST-MODIFIED:20250624T200110Z
UID:4597-1750233600-1750248000@staintons.com
SUMMARY:Ocean City Farmers Market – Every Wednesday
DESCRIPTION:Every Wednesday from June 4 through September 3\, the Ocean City Farmers Market takes place from 8:00 AM to 12:00 PM at the Tabernacle Grounds (550 Wesley Ave). A beloved summer tradition\, the market features an incredible variety of fresh produce\, baked goods\, flowers\, specialty foods\, handmade crafts\, and more from local and regional vendors. Whether you’re a year-round resident or just visiting for the week\, it’s a great way to experience the heart of Ocean City’s community. \nSeveral Stainton’s vendors also participate in the market\, offering a taste of what you can find inside our stores. In addition\, we host pop-up vendors outside of Stainton’s every Wednesday\, giving visitors even more to explore downtown. Inside Stainton’s\, you’ll find over 80 independently owned shops under one roof — showcasing the best of Ocean City’s local shopping scene. \n \nProudly supporting Ocean City’s community and small business scene all summer long.
URL:https://staintons.com/event/ocean-city-farmers-market-every-wednesday-3/
LOCATION:Tabernacle\, 550 Wesley avenue\, Ocean City\, 08226\, United States
END:VEVENT
BEGIN:VEVENT
DTSTART;TZID=UTC:20250625T080000
DTEND;TZID=UTC:20250625T120000
DTSTAMP:20260422T121021
CREATED:20250624T192919Z
LAST-MODIFIED:20250624T200140Z
UID:4599-1750838400-1750852800@staintons.com
SUMMARY:Ocean City Farmers Market – Every Wednesday
DESCRIPTION:Every Wednesday from June 4 through September 3\, the Ocean City Farmers Market takes place from 8:00 AM to 12:00 PM at the Tabernacle Grounds (550 Wesley Ave). A beloved summer tradition\, the market features an incredible variety of fresh produce\, baked goods\, flowers\, specialty foods\, handmade crafts\, and more from local and regional vendors. Whether you’re a year-round resident or just visiting for the week\, it’s a great way to experience the heart of Ocean City’s community. \nSeveral Stainton’s vendors also participate in the market\, offering a taste of what you can find inside our stores. In addition\, we host pop-up vendors outside of Stainton’s every Wednesday\, giving visitors even more to explore downtown. Inside Stainton’s\, you’ll find over 80 independently owned shops under one roof — showcasing the best of Ocean City’s local shopping scene. \n \nProudly supporting Ocean City’s community and small business scene all summer long.
URL:https://staintons.com/event/ocean-city-farmers-market-every-wednesday-4/
LOCATION:Tabernacle\, 550 Wesley avenue\, Ocean City\, 08226\, United States
END:VEVENT
END:VCALENDAR